Workbook

Sheet OP1 (upr_výp)
I2: PROTOKOL HODNOCENÍ ŽÁDOSTÍ | AL2: Kontrolní hodnoty | AM2: =SUM(AM5:AM37) -> 9399987 | AN2: =SUM(AN5:AN37) -> 13 | AO2: =SUM(AO5:AO37) -> 9400000
B3: =SUM(B6:B37) -> 0.98924008 | C3: =SUM(C6:C37) -> 0.99139779 | D3: =SUM(D6:D37) -> 76255940 | F3: OPATŘENÍ Č. 1 - Příspěvek na činnost výkonnostních mládežnických sportovních klubů (olympijské sporty) | S3: Alokovaná částka v tis. Kč: 9 400 Min. - max. výše dotace v tis Kč: 10 - 800
B4: koeficient pro 3. skrutinium | C4: koeficient pro 2. skrutinium | D4: koeficien krácený komisí | F4: Poř. číslo | G4: EZOP | H4: Číslo projektu | I4: Název klubu | J4: Požadovaná dotace | K4: Náklady klubu - celkem (v Kč) | L4: Náklady za mládež - údržba, chod klubu, sport. potřeby, souteže, startovné, rozhodčí, trenérská činnost, soustředění, zdravotní prohlídky (v Kč) = NM | M4: Celk. náklady klubu na nájmy (v Kč) = N | N4: Celk. náklady klubu na utility (v Kč) = U | O4: Využití zařízení za měsíc celkem (hodin) = C | P4: Využití zařízení vlastními mládežn. mužstvy (hodin) = M | Q4: koeficient využití pro mládež | R4: Celkový počet dětí od 6 do 23 let účastnící se mládežnických soutěží/ počet dětí ve sportovním svazu | S4: Hodnota nákladů na mládež = H | T4: Hodnota dotace na mládež = DH - 1. skrutinium, základní výpočet | U4: Hodnota dotace na mládež = DH - po krácení komisí | V4: Hodnota dotace na mládež = DH - 2. skrutinium zastropování na 1) STROP ($L$42) nebo 2) MAX žadatele (sloupec J) | W4: Hodnota dotace na mládež = DH - 3. skrutinium zastropování | X4: KOEFICIENT: počet registrovaných/neregistrovaných členů sportovním svazem, posouzení, zda klub vyvíjí celoroční činnost, věrohodnost žádosti, chybovost vyúčtování, naplňování smluv z předchozích let, přiměřenost nákladů v místě a čase obvyklých HODNOTA: 0,1 - 1 | Y4: Hodnota = návrh dotace SK ze dne …..... | Z4: Ponížení koeficientu (zdůvodnění) | AA4: Můj klub 2022 přiložená žádost | AC4: dotace v roce 2025 Alokovaná částka v tis. Kč: 9 400 Min. - max. výše dotace v tis Kč: 10 - 800 | AD4: Můj klub | AL4: žadatel, u kterého došlo k ohraničení (STROP nebo MAX) NEMAZAT!!! | AM4: Celá část navržené dotace (bez halířů) NEMAZAT!!! | AN4: Zbytel po odečtemí celých částí NEMAZAT!!! | AO4: dopočet pro 4. skrutinium (Součet zbytku [haléřů] bude přidělen žadateli s nejmenší dotací, nebo prvnímu z nich, pokud jich bude více)
B5: =IF(V5>$L$43,0,IF(U5>J5,0,$V5/SUMIF($AL$5:$AL$37,0,$V$5:$V$37))) -> 0.010759919 | C5: =U5/$U$38 -> 0.0086022092 | D5: =S5*X5 -> 661661.29 | F5: 1. | G5: 1409 | H5: OS 1 | I5: SK Mladé z.s. | J5: 270000 | K5: 1477495.8 | L5: 394001 | M5: 25200 | N5: 305320.37 | O5: 136 | P5: 108 | Q5: =IF(O5=0,0,P5/O5) -> 0.79411765 | R5: Celkem´= 107, Svaz=107 | S5: =Q5*(N5)+M5+L5 -> 661661.29 | T5: =$L$44*S5 -> 76980.601 | U5: =$L$44*D5 -> 76980.601 | V5: =IF(U5>J5,J5,IF(U5>$L$43,$L$43,IF(C5*$T$38>$L$43,$L$43,C5*$T$38))) -> 80860.766 | W5: =IF(U5>$L$43,0,IF(U5>J5,0,($K$43-$V$38)*B5))+V5 -> 83765.971 | X5: 1 | Y5: =AR5 -> 98667 | AA5: ano | AB5: 196184 | AC5: 172993 | AD5: ano | AL5: =IF(U5>$L$43,1,IF(U5>J5,1,0)) -> 0 | AM5: =INT(W5) -> 83765 | AN5: =W5-AM5 -> 0.97110151 | AO5: =IF(AND(AM5=MIN($AM$5:$AM$37),COUNTIF($AM$5:AM5,AM5)=1),AM5+$AN$38,AM5) -> 83765 | AP5: =IF(U5>$L$43,0,IF(V5>=J5,0,($K$43-$V$38)*B5))+V5 -> 83765.971 | AQ5: =AO5 -> 83765 | AR5: =AQ5+AR41 -> 98667
B6: =IF(V6>$L$43,0,IF(U6>J6,0,$V6/SUMIF($AL$5:$AL$37,0,$V$5:$V$37))) -> 0.037609183 | C6: =U6/$U$38 -> 0.030067331 | D6: =S6*X6 -> 2312707 | F6: 2. | G6: 1377 | H6: OS 2 | I6: Sportovní klub moderní gymnastika Máj České Budějovice, z.s. | J6: 800000 | K6: 2865926 | L6: 1655959 | M6: 656748 | N6: 0 | O6: 0 | P6: 0 | Q6: =IF(O6=0,0,P6/O6) -> 0 | R6: Celkem = 111, svaz + ČUS = 111 | S6: =Q6*(N6)+M6+L6 -> 2312707 | T6: =$L$44*S6 -> 269070.56 | U6: =$L$44*D6 -> 269070.56 | V6: =IF(U6>J6,J6,IF(U6>$L$43,$L$43,IF(C6*$T$38>$L$43,$L$43,C6*$T$38))) -> 282632.91 | W6: =IF(U6>$L$43,0,IF(U6>J6,0,($K$43-$V$38)*B6))+V6 -> 292787.49 | X6: 1 | Y6: =AR6 -> 292787 | AA6: ano | AB6: 333508 | AC6: 351359 | AD6: ano | AL6: =IF(U6>$L$43,1,IF(U6>J6,1,0)) -> 0 | AM6: =INT(W6) -> 292787 | AN6: =W6-AM6 -> 0.48739975 | AO6: =IF(AND(AM6=MIN($AM$5:$AM$37),COUNTIF($AM$5:AM6,AM6)=1),AM6+$AN$38,AM6) -> 292787 | AP6: =IF(U6>$L$43,0,IF(V6>=J6,0,($K$43-$V$38)*B6))+V6 -> 292787.49 | AQ6: =AO6 -> 292787 | AR6: =AQ6 -> 292787
B7: =IF(V7>$L$43,0,IF(U7>J7,0,$V7/SUMIF($AL$5:$AL$37,0,$V$5:$V$37))) -> 0.034434211 | C7: =U7/$U$38 -> 0.027529044 | D7: =S7*X7 -> 2117468 | F7: 3. | G7: 1392 | H7: OS 3 | I7: Plavecký klub - ŠIK ČB, z. s. | J7: 800000 | K7: 12217000 | L7: 1838535 | M7: 1177540 | N7: 1400456 | O7: 202 | P7: 74 | Q7: =IF(O7=0,0,P7/O7) -> 0.36633663 | R7: Celkem = 312, Svaz = 312, ČUS =312 | S7: =Q7*(N7)+M7+L7 -> 3529113.3 | T7: =$L$44*S7 -> 410592.65 | U7: =$L$44*D7 -> 246355.59 | V7: =IF(U7>J7,J7,IF(U7>$L$43,$L$43,IF(C7*$T$38>$L$43,$L$43,C7*$T$38))) -> 258773.01 | W7: =IF(U7>$L$43,0,IF(U7>J7,0,($K$43-$V$38)*B7))+V7 -> 268070.33 | X7: 0.6 | Y7: =AR7 -> 268070 | AA7: ano | AB7: 750000 | AC7: 244994 | AD7: ano | AL7: =IF(U7>$L$43,1,IF(U7>J7,1,0)) -> 0 | AM7: =INT(W7) -> 268070 | AN7: =W7-AM7 -> 0.3331417 | AO7: =IF(AND(AM7=MIN($AM$5:$AM$37),COUNTIF($AM$5:AM7,AM7)=1),AM7+$AN$38,AM7) -> 268070 | AP7: =IF(U7>$L$43,0,IF(V7>=J7,0,($K$43-$V$38)*B7))+V7 -> 268070.33 | AQ7: =AO7 -> 268070 | AR7: =AQ7 -> 268070
B8: =IF(V8>$L$43,0,IF(U8>J8,0,$V8/SUMIF($AL$5:$AL$37,0,$V$5:$V$37))) -> 0.038359413 | C8: =U8/$U$38 -> 0.030667116 | D8: =S8*X8 -> 2358841 | F8: 4. | G8: 1408 | H8: OS 1 | I8: Merkur České Budějovice z.s. | J8: 315000 | K8: 3002634 | L8: 2080816 | M8: 101580 | N8: 305385.58 | O8: 225 | P8: 130 | Q8: =IF(O8=0,0,P8/O8) -> 0.57777778 | R8: Celkem = 125, Svaz= 51 ČUS = 74 | S8: =Q8*(N8)+M8+L8 -> 2358841 | T8: =$L$44*S8 -> 274437.99 | U8: =$L$44*D8 -> 274437.99 | V8: =IF(U8>J8,J8,IF(U8>$L$43,$L$43,IF(C8*$T$38>$L$43,$L$43,C8*$T$38))) -> 288270.89 | W8: =IF(U8>$L$43,0,IF(U8>J8,0,($K$43-$V$38)*B8))+V8 -> 298628.03 | X8: 1 | Y8: =AR8 -> 298628 | AA8: ano | AB8: 134340 | AC8: 311946 | AD8: ano | AL8: =IF(U8>$L$43,1,IF(U8>J8,1,0)) -> 0 | AM8: =INT(W8) -> 298628 | AN8: =W8-AM8 -> 0.02771212 | AO8: =IF(AND(AM8=MIN($AM$5:$AM$37),COUNTIF($AM$5:AM8,AM8)=1),AM8+$AN$38,AM8) -> 298628 | AP8: =IF(U8>$L$43,0,IF(V8>=J8,0,($K$43-$V$38)*B8))+V8 -> 298628.03 | AQ8: =AO8 -> 298628 | AR8: =AQ8 -> 298628
B9: =IF(V9>$L$43,0,IF(U9>J9,0,$V9/SUMIF($AL$5:$AL$37,0,$V$5:$V$37))) -> 0.010663074 | C9: =U9/$U$38 -> 0.0085247848 | D9: =S9*X9 -> 655706 | F9: 5. | G9: 1428 | H9: OS 1 | I9: BOX CLUB TÁTY NĚMCE z.s. | J9: 220000 | K9: 839076 | L9: 510000 | M9: 145706 | N9: 0 | O9: 0 | P9: 0 | Q9: =IF(O9=0,0,P9/O9) -> 0 | R9: Celkem=111; svaz=111 | S9: =Q9*(N9)+M9+L9 -> 655706 | T9: =$L$44*S9 -> 76287.736 | U9: =$L$44*D9 -> 76287.736 | V9: =IF(U9>J9,J9,IF(U9>$L$43,$L$43,IF(C9*$T$38>$L$43,$L$43,C9*$T$38))) -> 80132.978 | W9: =IF(U9>$L$43,0,IF(U9>J9,0,($K$43-$V$38)*B9))+V9 -> 83012.034 | X9: 1 | Y9: =AR9 -> 83012 | AA9: ano | AB9: 256065 | AC9: 77799 | AD9: ano | AL9: =IF(U9>$L$43,1,IF(U9>J9,1,0)) -> 0 | AM9: =INT(W9) -> 83012 | AN9: =W9-AM9 -> 0.034041899 | AO9: =IF(AND(AM9=MIN($AM$5:$AM$37),COUNTIF($AM$5:AM9,AM9)=1),AM9+$AN$38,AM9) -> 83012 | AP9: =IF(U9>$L$43,0,IF(V9>=J9,0,($K$43-$V$38)*B9))+V9 -> 83012.034 | AQ9: =AO9 -> 83012 | AR9: =AQ9 -> 83012
B10: =IF(V10>$L$43,0,IF(U10>J10,0,$V10/SUMIF($AL$5:$AL$37,0,$V$5:$V$37))) -> 0 | C10: =U10/$U$38 -> 0 | D10: =S10*X10 -> 0 | F10: 6. | G10: 1427 | H10: OS 1 | I10: Děti do bruslí s.z. | J10: 284781 | K10: 372270 | L10: 208881 | M10: 172500 | N10: 0 | O10: 0 | P10: 0 | Q10: =IF(O10=0,0,P10/O10) -> 0 | R10: Celkem = 57 | S10: =Q10*(N10)+M10+L10 -> 381381 | T10: =$L$44*S10 -> 44371.552 | U10: =$L$44*D10 -> 0 | V10: =IF(U10>J10,J10,IF(U10>$L$43,$L$43,IF(C10*$T$38>$L$43,$L$43,C10*$T$38))) -> 0 | W10: =IF(U10>$L$43,0,IF(U10>J10,0,($K$43-$V$38)*B10))+V10 -> 0 | X10: 0 | Y10: =AR10 -> 0 | Z10: nejsou jejich sportovci | AA10: ano | AB10: 452857 | AC10: 0 | AD10: ne | AL10: =IF(U10>$L$43,1,IF(U10>J10,1,0)) -> 0 | AM10: =INT(W10) -> 0 | AN10: =W10-AM10 -> 0 | AO10: =IF(AND(AM10=MIN($AM$5:$AM$37),COUNTIF($AM$5:AM10,AM10)=1),AM10+$AN$38,AM10) -> 13 | AP10: =IF(U10>$L$43,0,IF(V10>=J10,0,($K$43-$V$38)*B10))+V10 -> 0 | AQ10: 0 | AR10: =AQ10 -> 0
B11: =IF(V11>$L$43,0,IF(U11>J11,0,$V11/SUMIF($AL$5:$AL$37,0,$V$5:$V$37))) -> 0.016360018 | C11: =U11/$U$38 -> 0.013079308 | D11: =S11*X11 -> 1006029 | F11: 7. | G11: 1412 | H11: OS 7 | I11: TJ Motor z.s. | J11: 800000 | K11: 1448529 | L11: 908994 | M11: 70394 | N11: 266410 | O11: 200 | P11: 20 | Q11: =IF(O11=0,0,P11/O11) -> 0.1 | R11: Celkem= 57, Svaz= 30, ČUS=20, ner.7 | S11: =Q11*(N11)+M11+L11 -> 1006029 | T11: =$L$44*S11 -> 117045.86 | U11: =$L$44*D11 -> 117045.86 | V11: =IF(U11>J11,J11,IF(U11>$L$43,$L$43,IF(C11*$T$38>$L$43,$L$43,C11*$T$38))) -> 122945.5 | W11: =IF(U11>$L$43,0,IF(U11>J11,0,($K$43-$V$38)*B11))+V11 -> 127362.74 | X11: 1 | Y11: =AR11 -> 127362 | AA11: ano | AB11: 219621 | AC11: 96799 | AD11: ano | AL11: =IF(U11>$L$43,1,IF(U11>J11,1,0)) -> 0 | AM11: =INT(W11) -> 127362 | AN11: =W11-AM11 -> 0.74122112 | AO11: =IF(AND(AM11=MIN($AM$5:$AM$37),COUNTIF($AM$5:AM11,AM11)=1),AM11+$AN$38,AM11) -> 127362 | AP11: =IF(U11>$L$43,0,IF(V11>=J11,0,($K$43-$V$38)*B11))+V11 -> 127362.74 | AQ11: =AO11 -> 127362 | AR11: =AQ11 -> 127362
B12: =IF(V12>$L$43,0,IF(U12>J12,0,$V12/SUMIF($AL$5:$AL$37,0,$V$5:$V$37))) -> 0.040252334 | C12: =U12/$U$38 -> 0.032180446 | D12: =S12*X12 -> 2475242.7 | F12: 8. | G12: 1430 | H12: OS 8 | I12: Škola volejbalu s.z. | J12: 530000 | K12: 3525683.1 | L12: 2245103 | M12: 536700 | N12: 284175.84 | O12: 120 | P12: 55 | Q12: =IF(O12=0,0,P12/O12) -> 0.45833333 | R12: Celkem=171, Svaz=171 | S12: =Q12*(N12)+M12+L12 -> 2912050.3 | T12: =$L$44*S12 -> 338800.8 | U12: =$L$44*D12 -> 287980.68 | V12: =IF(U12>J12,J12,IF(U12>$L$43,$L$43,IF(C12*$T$38>$L$43,$L$43,C12*$T$38))) -> 302496.19 | W12: =IF(U12>$L$43,0,IF(U12>J12,0,($K$43-$V$38)*B12))+V12 -> 313364.42 | X12: 0.85 | Y12: =AR12 -> 313364 | Z12: přiznání počtu sportovců, nepřiměřené náklady | AA12: ano | AB12: 653437 | AC12: 307066 | AD12: ano | AL12: =IF(U12>$L$43,1,IF(U12>J12,1,0)) -> 0 | AM12: =INT(W12) -> 313364 | AN12: =W12-AM12 -> 0.42402176 | AO12: =IF(AND(AM12=MIN($AM$5:$AM$37),COUNTIF($AM$5:AM12,AM12)=1),AM12+$AN$38,AM12) -> 313364 | AP12: =IF(U12>$L$43,0,IF(V12>=J12,0,($K$43-$V$38)*B12))+V12 -> 313364.42 | AQ12: =AO12 -> 313364 | AR12: =AQ12 -> 313364
B13: =IF(V13>$L$43,0,IF(U13>J13,0,$V13/SUMIF($AL$5:$AL$37,0,$V$5:$V$37))) -> 0.0021870138 | C13: =U13/$U$38 -> 0.0017484471 | D13: =S13*X13 -> 134486.36 | F13: 9. | G13: 1397 | H13: OS 9 | I13: Triatlonový sportovní klub České Budějovice z.s. | J13: 90000 | K13: 498108 | L13: 134486.36 | M13: 0 | N13: 0 | O13: 0 | P13: 0 | Q13: =IF(O13=0,0,P13/O13) -> 0 | R13: Celkem = 22, Česká triatlonová federace = 16, ČUS = 22 | S13: =Q13*(N13)+M13+L13 -> 134486.36 | T13: =$L$44*S13 -> 15646.738 | U13: =$L$44*D13 -> 15646.738 | V13: =IF(U13>J13,J13,IF(U13>$L$43,$L$43,IF(C13*$T$38>$L$43,$L$43,C13*$T$38))) -> 16435.403 | W13: =IF(U13>$L$43,0,IF(U13>J13,0,($K$43-$V$38)*B13))+V13 -> 17025.902 | X13: 1 | Y13: =AR13 -> 31927 | AA13: ano | AB13: 731614 | AC13: 35346 | AD13: ne | AL13: =IF(U13>$L$43,1,IF(U13>J13,1,0)) -> 0 | AM13: =INT(W13) -> 17025 | AN13: =W13-AM13 -> 0.90230148 | AO13: =IF(AND(AM13=MIN($AM$5:$AM$37),COUNTIF($AM$5:AM13,AM13)=1),AM13+$AN$38,AM13) -> 17025 | AP13: =IF(U13>$L$43,0,IF(V13>=J13,0,($K$43-$V$38)*B13))+V13 -> 17025.902 | AQ13: =AO13 -> 17025 | AR13: =AQ13+AR41 -> 31927
B14: =IF(V14>$L$43,0,IF(U14>J14,0,$V14/SUMIF($AL$5:$AL$37,0,$V$5:$V$37))) -> 0.025927003 | C14: =U14/$U$38 -> 0.020727805 | D14: =S14*X14 -> 1594333 | F14: 10. | G14: 1398 | H14: OS 10 | I14: SK Meťák z.s. | J14: 800000 | K14: 3663402 | L14: 1213886 | M14: 380447 | N14: 0 | O14: 0 | P14: 0 | Q14: =IF(O14=0,0,P14/O14) -> 0 | R14: Celkem= 392, Svaz= 367, ČUS==25 | S14: =Q14*(N14)+M14+L14 -> 1594333 | T14: =$L$44*S14 -> 185491.75 | U14: =$L$44*D14 -> 185491.75 | V14: =IF(U14>J14,J14,IF(U14>$L$43,$L$43,IF(C14*$T$38>$L$43,$L$43,C14*$T$38))) -> 194841.36 | W14: =IF(U14>$L$43,0,IF(U14>J14,0,($K$43-$V$38)*B14))+V14 -> 201841.72 | X14: 1 | Y14: =AR14 -> 201841 | AA14: ano | AB14: 395191 | AC14: 223458 | AD14: ano | AL14: =IF(U14>$L$43,1,IF(U14>J14,1,0)) -> 0 | AM14: =INT(W14) -> 201841 | AN14: =W14-AM14 -> 0.71758398 | AO14: =IF(AND(AM14=MIN($AM$5:$AM$37),COUNTIF($AM$5:AM14,AM14)=1),AM14+$AN$38,AM14) -> 201841 | AP14: =IF(U14>$L$43,0,IF(V14>=J14,0,($K$43-$V$38)*B14))+V14 -> 201841.72 | AQ14: =AO14 -> 201841 | AR14: =AQ14 -> 201841
B15: =IF(V15>$L$43,0,IF(U15>J15,0,$V15/SUMIF($AL$5:$AL$37,0,$V$5:$V$37))) -> 0.016380362 | C15: =U15/$U$38 -> 0.013095572 | D15: =S15*X15 -> 1007280 | F15: 11. | G15: 1381 | H15: OS 11 | I15: SK TŘEBÍN, z.s. | J15: 207000 | K15: 1198981 | L15: 915992 | M15: 91288 | N15: 0 | O15: 0 | P15: 0 | Q15: =IF(O15=0,0,P15/O15) -> 0 | R15: Celkem = 93, Jihočeský krajský volejbalový svaz = 93 | S15: =Q15*(N15)+M15+L15 -> 1007280 | T15: =$L$44*S15 -> 117191.41 | U15: =$L$44*D15 -> 117191.41 | V15: =IF(U15>J15,J15,IF(U15>$L$43,$L$43,IF(C15*$T$38>$L$43,$L$43,C15*$T$38))) -> 123098.38 | W15: =IF(U15>$L$43,0,IF(U15>J15,0,($K$43-$V$38)*B15))+V15 -> 127521.12 | X15: 1 | Y15: =AR15 -> 127521 | AA15: ano | AB15: 571173 | AC15: 175138 | AD15: ano | AL15: =IF(U15>$L$43,1,IF(U15>J15,1,0)) -> 0 | AM15: =INT(W15) -> 127521 | AN15: =W15-AM15 -> 0.11716184 | AO15: =IF(AND(AM15=MIN($AM$5:$AM$37),COUNTIF($AM$5:AM15,AM15)=1),AM15+$AN$38,AM15) -> 127521 | AP15: =IF(U15>$L$43,0,IF(V15>=J15,0,($K$43-$V$38)*B15))+V15 -> 127521.12 | AQ15: =AO15 -> 127521 | AR15: =AQ15 -> 127521
B16: =IF(V16>$L$43,0,IF(U16>J16,0,$V16/SUMIF($AL$5:$AL$37,0,$V$5:$V$37))) -> 0 | C16: =U16/$U$38 -> 0.098834435 | D16: =S16*X16 -> 7602107.7 | F16: 12. | G16: 1486 | H16: OS 12 | I16: Tělocvičná jednota Sokol České Budějovice | J16: 800000 | K16: 23689524 | L16: 6548573 | M16: 208437 | N16: 2535293 | O16: 1215 | P16: 405 | Q16: =IF(O16=0,0,P16/O16) -> 0.33333333 | R16: Celkem= 960, svaz=654, ČUS=306 | S16: =Q16*(N16)+M16+L16 -> 7602107.7 | T16: =$L$44*S16 -> 884462.82 | U16: =$L$44*D16 -> 884462.82 | V16: =IF(U16>J16,J16,IF(U16>$L$43,$L$43,IF(C16*$T$38>$L$43,$L$43,C16*$T$38))) -> 800000 | W16: =IF(U16>$L$43,0,IF(U16>J16,0,($K$43-$V$38)*B16))+V16 -> 800000 | X16: 1 | Y16: =AR16 -> 800000 | AA16: ano | AB16: 603885 | AC16: 800000 | AD16: ano | AL16: =IF(U16>$L$43,1,IF(U16>J16,1,0)) -> 1 | AM16: =INT(W16) -> 800000 | AN16: =W16-AM16 -> 0 | AO16: =IF(AND(AM16=MIN($AM$5:$AM$37),COUNTIF($AM$5:AM16,AM16)=1),AM16+$AN$38,AM16) -> 800000 | AP16: =IF(U16>$L$43,0,IF(V16>=J16,0,($K$43-$V$38)*B16))+V16 -> 800000 | AQ16: =AO16 -> 800000 | AR16: =AQ16 -> 800000
B17: =IF(V17>$L$43,0,IF(U17>J17,0,$V17/SUMIF($AL$5:$AL$37,0,$V$5:$V$37))) -> 0.080340765 | C17: =U17/$U$38 -> 0.064229857 | D17: =S17*X17 -> 4940406.5 | F17: 13. | G17: 1437 | H17: OS 13 | I17: PLAVÁNÍ České Budějovice | J17: 800000 | K17: 11577746 | L17: 4151424 | M17: 788982.5 | N17: 0 | O17: 0 | P17: 0 | Q17: =IF(O17=0,0,P17/O17) -> 0 | R17: Celekm=310;Svaz=270, ČUS=270 | S17: =Q17*(N17)+M17+L17 -> 4940406.5 | T17: =$L$44*S17 -> 574788.74 | U17: =$L$44*D17 -> 574788.74 | V17: =IF(U17>J17,J17,IF(U17>$L$43,$L$43,IF(C17*$T$38>$L$43,$L$43,C17*$T$38))) -> 603760.65 | W17: =IF(U17>$L$43,0,IF(U17>J17,0,($K$43-$V$38)*B17))+V17 -> 625452.86 | X17: 1 | Y17: =AR17 -> 625452 | AA17: ano | AB17: 207495 | AC17: 515574 | AD17: ano | AL17: =IF(U17>$L$43,1,IF(U17>J17,1,0)) -> 0 | AM17: =INT(W17) -> 625452 | AN17: =W17-AM17 -> 0.85929794 | AO17: =IF(AND(AM17=MIN($AM$5:$AM$37),COUNTIF($AM$5:AM17,AM17)=1),AM17+$AN$38,AM17) -> 625452 | AP17: =IF(U17>$L$43,0,IF(V17>=J17,0,($K$43-$V$38)*B17))+V17 -> 625452.86 | AQ17: =AO17 -> 625452 | AR17: =AQ17 -> 625452
B18: =IF(V18>$L$43,0,IF(U18>J18,0,$V18/SUMIF($AL$5:$AL$37,0,$V$5:$V$37))) -> 0.0095868406 | C18: =U18/$U$38 -> 0.0076643706 | D18: =S18*X18 -> 589525 | F18: 14. | G18: 0 | H18: OS 15 | I18: Sportovní klub JUDO České Budějovice | J18: 165000 | K18: 1078000 | L18: 459990 | M18: 97360 | N18: 32175 | O18: 216 | P18: 216 | Q18: =IF(O18=0,0,P18/O18) -> 1 | R18: Celkem=132, svaz=102, ČUS=30 | S18: =Q18*(N18)+M18+L18 -> 589525 | T18: =$L$44*S18 -> 68587.945 | U18: =$L$44*D18 -> 68587.945 | V18: =IF(U18>J18,J18,IF(U18>$L$43,$L$43,IF(C18*$T$38>$L$43,$L$43,C18*$T$38))) -> 72045.084 | W18: =IF(U18>$L$43,0,IF(U18>J18,0,($K$43-$V$38)*B18))+V18 -> 74633.554 | X18: 1 | Y18: =AR18 -> 74633 | AA18: ano | AB18: 405263 | AC18: 116876 | AD18: ano | AL18: =IF(U18>$L$43,1,IF(U18>J18,1,0)) -> 0 | AM18: =INT(W18) -> 74633 | AN18: =W18-AM18 -> 0.55431939 | AO18: =IF(AND(AM18=MIN($AM$5:$AM$37),COUNTIF($AM$5:AM18,AM18)=1),AM18+$AN$38,AM18) -> 74633 | AP18: =IF(U18>$L$43,0,IF(V18>=J18,0,($K$43-$V$38)*B18))+V18 -> 74633.554 | AQ18: =AO18 -> 74633 | AR18: =AQ18 -> 74633
B19: =IF(V19>$L$43,0,IF(U19>J19,0,$V19/SUMIF($AL$5:$AL$37,0,$V$5:$V$37))) -> 0.054415234 | C19: =U19/$U$38 -> 0.043503229 | D19: =S19*X19 -> 3346164 | F19: 15. | G19: 1477 | H19: OS 16 | I19: Florbalová akademie České Budějovice, z.s. | J19: 800000 | K19: 4278079 | L19: 3014302 | M19: 331862 | N19: 0 | O19: 0 | P19: 0 | Q19: =IF(O19=0,0,P19/O19) -> 0 | R19: Celkem= 489;Svaz=431, nereg.=58 | S19: =Q19*(N19)+M19+L19 -> 3346164 | T19: =$L$44*S19 -> 389307.52 | U19: =$L$44*D19 -> 389307.52 | V19: =IF(U19>J19,J19,IF(U19>$L$43,$L$43,IF(C19*$T$38>$L$43,$L$43,C19*$T$38))) -> 408930.35 | W19: =IF(U19>$L$43,0,IF(U19>J19,0,($K$43-$V$38)*B19))+V19 -> 423622.6 | X19: 1 | Y19: =AR19 -> 423622 | AA19: ano | AB19: 317184 | AC19: 336851 | AD19: ano | AL19: =IF(U19>$L$43,1,IF(U19>J19,1,0)) -> 0 | AM19: =INT(W19) -> 423622 | AN19: =W19-AM19 -> 0.59896627 | AO19: =IF(AND(AM19=MIN($AM$5:$AM$37),COUNTIF($AM$5:AM19,AM19)=1),AM19+$AN$38,AM19) -> 423622 | AP19: =IF(U19>$L$43,0,IF(V19>=J19,0,($K$43-$V$38)*B19))+V19 -> 423622.6 | AQ19: =AO19 -> 423622 | AR19: =AQ19 -> 423622
B20: =IF(V20>$L$43,0,IF(U20>J20,0,$V20/SUMIF($AL$5:$AL$37,0,$V$5:$V$37))) -> 0.024505592 | C20: =U20/$U$38 -> 0.019591433 | D20: =S20*X20 -> 1506926 | F20: 16. | G20: 1698 | H20: OS 17 | I20: Bruslařský klub České Budějovice z.s. | J20: 210000 | K20: 1685000 | L20: 792271 | M20: 714655 | N20: 0 | O20: 0 | P20: 0 | Q20: =IF(O20=0,0,P20/O20) -> 0 | R20: Celkem=54, Svaz=50 | S20: =Q20*(N20)+M20+L20 -> 1506926 | T20: =$L$44*S20 -> 175322.43 | U20: =$L$44*D20 -> 175322.43 | V20: =IF(U20>J20,J20,IF(U20>$L$43,$L$43,IF(C20*$T$38>$L$43,$L$43,C20*$T$38))) -> 184159.47 | W20: =IF(U20>$L$43,0,IF(U20>J20,0,($K$43-$V$38)*B20))+V20 -> 190776.04 | X20: 1 | Y20: =AR20 -> 190776 | AA20: ano | AC20: 191011 | AL20: =IF(U20>$L$43,1,IF(U20>J20,1,0)) -> 0 | AM20: =INT(W20) -> 190776 | AN20: =W20-AM20 -> 0.037447609 | AO20: =IF(AND(AM20=MIN($AM$5:$AM$37),COUNTIF($AM$5:AM20,AM20)=1),AM20+$AN$38,AM20) -> 190776 | AP20: =IF(U20>$L$43,0,IF(V20>=J20,0,($K$43-$V$38)*B20))+V20 -> 190776.04 | AQ20: =AO20 -> 190776 | AR20: =AQ20 -> 190776
B21: =IF(V21>$L$43,0,IF(U21>J21,0,$V21/SUMIF($AL$5:$AL$37,0,$V$5:$V$37))) -> 0.032062093 | C21: =U21/$U$38 -> 0.025632612 | D21: =S21*X21 -> 1971599 | F21: 17. | G21: 1414 | H21: OS 18 | I21: Tělovýchovná jednota KOH-I-NOOR České Budějovice s.z. | J21: 800000 | K21: 2744358 | L21: 1521590 | M21: 450009 | N21: 0 | O21: 0 | P21: 0 | Q21: =IF(O21=0,0,P21/O21) -> 0 | R21: Celkem=189, Svaz=189 | S21: =Q21*(N21)+M21+L21 -> 1971599 | T21: =$L$44*S21 -> 229384.55 | U21: =$L$44*D21 -> 229384.55 | V21: =IF(U21>J21,J21,IF(U21>$L$43,$L$43,IF(C21*$T$38>$L$43,$L$43,C21*$T$38))) -> 240946.55 | W21: =IF(U21>$L$43,0,IF(U21>J21,0,($K$43-$V$38)*B21))+V21 -> 249603.39 | X21: 1 | Y21: =AR21 -> 249603 | AA21: ano | AB21: 549672 | AC21: 375647 | AD21: ano | AL21: =IF(U21>$L$43,1,IF(U21>J21,1,0)) -> 0 | AM21: =INT(W21) -> 249603 | AN21: =W21-AM21 -> 0.3943642 | AO21: =IF(AND(AM21=MIN($AM$5:$AM$37),COUNTIF($AM$5:AM21,AM21)=1),AM21+$AN$38,AM21) -> 249603 | AP21: =IF(U21>$L$43,0,IF(V21>=J21,0,($K$43-$V$38)*B21))+V21 -> 249603.39 | AQ21: =AO21 -> 249603 | AR21: =AQ21 -> 249603
B22: =IF(V22>$L$43,0,IF(U22>J22,0,$V22/SUMIF($AL$5:$AL$37,0,$V$5:$V$37))) -> 0.083212976 | C22: =U22/$U$38 -> 0.066526097 | D22: =S22*X22 -> 5117027.8 | F22: 18. | G22: 1487 | H22: OS 19 | I22: LTC VITON České Budějovice, z.s. | J22: 800000 | K22: 12216000 | L22: 4258609 | M22: 291994 | N22: 1229738 | O22: 1485 | P22: 684 | Q22: =IF(O22=0,0,P22/O22) -> 0.46060606 | R22: Celkem= 200, Svaz=77, neregist.123 | S22: =Q22*(N22)+M22+L22 -> 5117027.8 | T22: =$L$44*S22 -> 595337.64 | U22: =$L$44*D22 -> 595337.64 | V22: =IF(U22>J22,J22,IF(U22>$L$43,$L$43,IF(C22*$T$38>$L$43,$L$43,C22*$T$38))) -> 625345.31 | W22: =IF(U22>$L$43,0,IF(U22>J22,0,($K$43-$V$38)*B22))+V22 -> 647813.02 | X22: 1 | Y22: =AR22 -> 647813 | AA22: ano | AB22: 183154 | AC22: 573925 | AD22: ano | AL22: =IF(U22>$L$43,1,IF(U22>J22,1,0)) -> 0 | AM22: =INT(W22) -> 647813 | AN22: =W22-AM22 -> 0.01972916 | AO22: =IF(AND(AM22=MIN($AM$5:$AM$37),COUNTIF($AM$5:AM22,AM22)=1),AM22+$AN$38,AM22) -> 647813 | AP22: =IF(U22>$L$43,0,IF(V22>=J22,0,($K$43-$V$38)*B22))+V22 -> 647813.02 | AQ22: =AO22 -> 647813 | AR22: =AQ22 -> 647813
B23: =IF(V23>$L$43,0,IF(U23>J23,0,$V23/SUMIF($AL$5:$AL$37,0,$V$5:$V$37))) -> 0.025769177 | C23: =U23/$U$38 -> 0.020601628 | D23: =S23*X23 -> 1584627.8 | F23: 19. | G23: 1501 | H23: OS 20 | I23: Basketbalový sportovní klub České Budějovice , z.s. | J23: 400000 | K23: 3421303 | L23: 1984082 | M23: 279672 | N23: 0 | O23: 0 | P23: 0 | Q23: =IF(O23=0,0,P23/O23) -> 0 | R23: Celkem= 298, svaz=274 | S23: =Q23*(N23)+M23+L23 -> 2263754 | T23: =$L$44*S23 -> 263375.15 | U23: =$L$44*D23 -> 184362.61 | V23: =IF(U23>J23,J23,IF(U23>$L$43,$L$43,IF(C23*$T$38>$L$43,$L$43,C23*$T$38))) -> 193655.3 | W23: =IF(U23>$L$43,0,IF(U23>J23,0,($K$43-$V$38)*B23))+V23 -> 200613.04 | X23: 0.7 | Y23: =AR23 -> 200613 | AA23: ano | AB23: 703921 | AC23: 176495 | AD23: ano | AL23: =IF(U23>$L$43,1,IF(U23>J23,1,0)) -> 0 | AM23: =INT(W23) -> 200613 | AN23: =W23-AM23 -> 0.044378638 | AO23: =IF(AND(AM23=MIN($AM$5:$AM$37),COUNTIF($AM$5:AM23,AM23)=1),AM23+$AN$38,AM23) -> 200613 | AP23: =IF(U23>$L$43,0,IF(V23>=J23,0,($K$43-$V$38)*B23))+V23 -> 200613.04 | AQ23: =AO23 -> 200613 | AR23: =AQ23 -> 200613
B24: =IF(V24>$L$43,0,IF(U24>J24,0,$V24/SUMIF($AL$5:$AL$37,0,$V$5:$V$37))) -> 0.0096035922 | C24: =U24/$U$38 -> 0.007677763 | D24: =S24*X24 -> 590555.11 | F24: 20. | G24: 1564 | H24: OS 32/v OP2 | I24: Rugby Club České Budějovice, z.s. | J24: 495000 | K24: 1423695 | L24: 539621 | M24: 0 | N24: 77816 | O24: 110 | P24: 72 | Q24: =IF(O24=0,0,P24/O24) -> 0.65454545 | R24: Celkem=78, Svaz=78 | S24: =Q24*(N24)+M24+L24 -> 590555.11 | T24: =$L$44*S24 -> 68707.793 | U24: =$L$44*D24 -> 68707.793 | V24: =IF(U24>J24,J24,IF(U24>$L$43,$L$43,IF(C24*$T$38>$L$43,$L$43,C24*$T$38))) -> 72170.972 | W24: =IF(U24>$L$43,0,IF(U24>J24,0,($K$43-$V$38)*B24))+V24 -> 74763.966 | X24: 1 | Y24: =AR24 -> 74763 | AA24: ano | AB24: 165527 | AC24: 63311 | AD24: ano | AL24: =IF(U24>$L$43,1,IF(U24>J24,1,0)) -> 0 | AM24: =INT(W24) -> 74763 | AN24: =W24-AM24 -> 0.96558743 | AO24: =IF(AND(AM24=MIN($AM$5:$AM$37),COUNTIF($AM$5:AM24,AM24)=1),AM24+$AN$38,AM24) -> 74763 | AP24: =IF(U24>$L$43,0,IF(V24>=J24,0,($K$43-$V$38)*B24))+V24 -> 74763.966 | AQ24: =AO24 -> 74763 | AR24: =AQ24 -> 74763
B25: =IF(V25>$L$43,0,IF(U25>J25,0,$V25/SUMIF($AL$5:$AL$37,0,$V$5:$V$37))) -> 0.008742077 | C25: =U25/$U$38 -> 0.0069890092 | D25: =S25*X25 -> 537577.82 | F25: 21. | G25: 1505 | H25: OS 22 | I25: Orel Jednota České Budějovice | J25: 450000 | K25: 4174222 | L25: 368420 | M25: 0 | N25: 391810 | O25: 542 | P25: 234 | Q25: =IF(O25=0,0,P25/O25) -> 0.43173432 | R25: Celkem=318, Svaz=289, nereg.=29 | S25: =Q25*(N25)+M25+L25 -> 537577.82 | T25: =$L$44*S25 -> 62544.181 | U25: =$L$44*D25 -> 62544.181 | V25: =IF(U25>J25,J25,IF(U25>$L$43,$L$43,IF(C25*$T$38>$L$43,$L$43,C25*$T$38))) -> 65696.687 | W25: =IF(U25>$L$43,0,IF(U25>J25,0,($K$43-$V$38)*B25))+V25 -> 68057.069 | X25: 1 | Y25: =AR25 -> 68057 | AA25: ano | AB25: 115685 | AC25: 69769 | AD25: ano | AL25: =IF(U25>$L$43,1,IF(U25>J25,1,0)) -> 0 | AM25: =INT(W25) -> 68057 | AN25: =W25-AM25 -> 0.069072019 | AO25: =IF(AND(AM25=MIN($AM$5:$AM$37),COUNTIF($AM$5:AM25,AM25)=1),AM25+$AN$38,AM25) -> 68057 | AP25: =IF(U25>$L$43,0,IF(V25>=J25,0,($K$43-$V$38)*B25))+V25 -> 68057.069 | AQ25: =AO25 -> 68057 | AR25: =AQ25 -> 68057
B26: =IF(V26>$L$43,0,IF(U26>J26,0,$V26/SUMIF($AL$5:$AL$37,0,$V$5:$V$37))) -> 0.10645379 | C26: =U26/$U$38 -> 0.087861116 | D26: =S26*X26 -> 6758066.2 | F26: 22. | G26: 1506 | H26: OS 23 | I26: Sportovní klub policie České Budějovice,s.z. | J26: 800000 | K26: 7746226 | L26: 5119402 | M26: 777272.57 | N26: 920798 | O26: 620 | P26: 580 | Q26: =IF(O26=0,0,P26/O26) -> 0.93548387 | R26: Celkem= 641, Svaz=548, neregist.=93 | S26: =Q26*(N26)+M26+L26 -> 6758066.2 | T26: =$L$44*S26 -> 786263.31 | U26: =$L$44*D26 -> 786263.31 | V26: =IF(U26>J26,J26,IF(U26>$L$43,$L$43,IF(C26*$T$38>$L$43,$L$43,C26*$T$38))) -> 800000 | W26: =IF(U26>$L$43,0,IF(U26>J26,0,($K$43-$V$38)*B26))+V26 -> 828742.79 | X26: 1 | Y26: =AR26 -> 800000 | AA26: ano | AB26: 159528 | AC26: 798403 | AD26: ano | AL26: =IF(U26>$L$43,1,IF(U26>J26,1,0)) -> 0 | AM26: =INT(W26) -> 828742 | AN26: =W26-AM26 -> 0.78810705 | AO26: =IF(AND(AM26=MIN($AM$5:$AM$37),COUNTIF($AM$5:AM26,AM26)=1),AM26+$AN$38,AM26) -> 828742 | AP26: =IF(U26>$L$43,0,IF(V26>=J26,0,($K$43-$V$38)*B26))+V26 -> 800000 | AQ26: 800000 | AR26: =AQ26 -> 800000
B27: =IF(V27>$L$43,0,IF(U27>J27,0,$V27/SUMIF($AL$5:$AL$37,0,$V$5:$V$37))) -> 0 | C27: =U27/$U$38 -> 0.0017028612 | D27: =S27*X27 -> 130980 | F27: 23. | G27: 1507 | H27: OS 24 | I27: Warriors CB,z.s. | J27: 15000 | K27: 172000 | L27: 112842 | M27: 18138 | N27: 0 | O27: 0 | P27: 0 | Q27: =IF(O27=0,0,P27/O27) -> 0 | R27: Celkem=25, Svaz=25 | S27: =Q27*(N27)+M27+L27 -> 130980 | T27: =$L$44*S27 -> 15238.792 | U27: =$L$44*D27 -> 15238.792 | V27: =IF(U27>J27,J27,IF(U27>$L$43,$L$43,IF(C27*$T$38>$L$43,$L$43,C27*$T$38))) -> 15000 | W27: =IF(U27>$L$43,0,IF(U27>J27,0,($K$43-$V$38)*B27))+V27 -> 15000 | X27: 1 | Y27: =AR27 -> 15000 | AA27: ano | AB27: 123120 | AC27: 14544 | AD27: ano | AL27: =IF(U27>$L$43,1,IF(U27>J27,1,0)) -> 1 | AM27: =INT(W27) -> 15000 | AN27: =W27-AM27 -> 0 | AO27: =IF(AND(AM27=MIN($AM$5:$AM$37),COUNTIF($AM$5:AM27,AM27)=1),AM27+$AN$38,AM27) -> 15000 | AP27: =IF(U27>$L$43,0,IF(V27>=J27,0,($K$43-$V$38)*B27))+V27 -> 15000 | AQ27: =AO27 -> 15000 | AR27: =AQ27 -> 15000
B28: =IF(V28>$L$43,0,IF(U28>J28,0,$V28/SUMIF($AL$5:$AL$37,0,$V$5:$V$37))) -> 0.011310407 | C28: =U28/$U$38 -> 0.0090423062 | D28: =S28*X28 -> 695512.5 | F28: 24. | G28: 1508 | H28: OS 25 | I28: TJ SK čéčova Č.Budějovice, z.s. | J28: 450000 | K28: 936467.5 | L28: 651300 | M28: 44212.5 | N28: 0 | O28: 0 | P28: 0 | Q28: =IF(O28=0,0,P28/O28) -> 0 | R28: Celkem=180, svaz=180 | S28: =Q28*(N28)+M28+L28 -> 695512.5 | T28: =$L$44*S28 -> 80919 | U28: =$L$44*D28 -> 80919 | V28: =IF(U28>J28,J28,IF(U28>$L$43,$L$43,IF(C28*$T$38>$L$43,$L$43,C28*$T$38))) -> 84997.678 | W28: =IF(U28>$L$43,0,IF(U28>J28,0,($K$43-$V$38)*B28))+V28 -> 88051.516 | X28: 1 | Y28: =AR28 -> 88051 | AA28: ano | AB28: 18191 | AC28: 117589 | AD28: ano | AL28: =IF(U28>$L$43,1,IF(U28>J28,1,0)) -> 0 | AM28: =INT(W28) -> 88051 | AN28: =W28-AM28 -> 0.51596381 | AO28: =IF(AND(AM28=MIN($AM$5:$AM$37),COUNTIF($AM$5:AM28,AM28)=1),AM28+$AN$38,AM28) -> 88051 | AP28: =IF(U28>$L$43,0,IF(V28>=J28,0,($K$43-$V$38)*B28))+V28 -> 88051.516 | AQ28: =AO28 -> 88051 | AR28: =AQ28 -> 88051
B29: =IF(V29>$L$43,0,IF(U29>J29,0,$V29/SUMIF($AL$5:$AL$37,0,$V$5:$V$37))) -> 0 | C29: =U29/$U$38 -> 0.097240149 | D29: =S29*X29 -> 7479479 | F29: 25. | G29: 1509 | H29: OS 26 | I29: HC Mad Bull z.s. | J29: 800000 | K29: 9010212 | L29: 3839949 | M29: 3639530 | N29: 0 | O29: 0 | P29: 0 | Q29: =IF(O29=0,0,P29/O29) -> 0 | R29: Celkem=190, Svaz=173, ČUS=17 | S29: =Q29*(N29)+M29+L29 -> 7479479 | T29: =$L$44*S29 -> 870195.66 | U29: =$L$44*D29 -> 870195.66 | V29: =IF(U29>J29,J29,IF(U29>$L$43,$L$43,IF(C29*$T$38>$L$43,$L$43,C29*$T$38))) -> 800000 | W29: =IF(U29>$L$43,0,IF(U29>J29,0,($K$43-$V$38)*B29))+V29 -> 800000 | X29: 1 | Y29: =AR29 -> 800000 | AA29: ano | AB29: 17034 | AC29: 800000 | AD29: ano | AL29: =IF(U29>$L$43,1,IF(U29>J29,1,0)) -> 1 | AM29: =INT(W29) -> 800000 | AN29: =W29-AM29 -> 0 | AO29: =IF(AND(AM29=MIN($AM$5:$AM$37),COUNTIF($AM$5:AM29,AM29)=1),AM29+$AN$38,AM29) -> 800000 | AP29: =IF(U29>$L$43,0,IF(V29>=J29,0,($K$43-$V$38)*B29))+V29 -> 800000 | AQ29: =AO29 -> 800000 | AR29: =AQ29 -> 800000
B30: =IF(V30>$L$43,0,IF(U30>J30,0,$V30/SUMIF($AL$5:$AL$37,0,$V$5:$V$37))) -> 0.014994157 | C30: =U30/$U$38 -> 0.011987346 | D30: =S30*X30 -> 922037.89 | F30: 26. | G30: 1510 | H30: OS 27 | I30: TJ Meteor České Bdějovice, z.s. | J30: 675000 | K30: 2130534 | L30: 674014 | M30: 246678 | N30: 121130 | O30: 450 | P30: 5 | Q30: =IF(O30=0,0,P30/O30) -> 0.011111111 | R30: Celekm= 170, Svaz=143, ČUS=170 | S30: =Q30*(N30)+M30+L30 -> 922037.89 | T30: =$L$44*S30 -> 107273.97 | U30: =$L$44*D30 -> 107273.97 | V30: =IF(U30>J30,J30,IF(U30>$L$43,$L$43,IF(C30*$T$38>$L$43,$L$43,C30*$T$38))) -> 112681.05 | W30: =IF(U30>$L$43,0,IF(U30>J30,0,($K$43-$V$38)*B30))+V30 -> 116729.51 | X30: 1 | Y30: =AR30 -> 116729 | AA30: ano | AB30: 56505 | AC30: 141217 | AD30: ano | AL30: =IF(U30>$L$43,1,IF(U30>J30,1,0)) -> 0 | AM30: =INT(W30) -> 116729 | AN30: =W30-AM30 -> 0.5108179 | AO30: =IF(AND(AM30=MIN($AM$5:$AM$37),COUNTIF($AM$5:AM30,AM30)=1),AM30+$AN$38,AM30) -> 116729 | AP30: =IF(U30>$L$43,0,IF(V30>=J30,0,($K$43-$V$38)*B30))+V30 -> 116729.51 | AQ30: =AO30 -> 116729 | AR30: =AQ30 -> 116729
B31: =IF(V31>$L$43,0,IF(U31>J31,0,$V31/SUMIF($AL$5:$AL$37,0,$V$5:$V$37))) -> 0.0067466054 | C31: =U31/$U$38 -> 0.005393694 | D31: =S31*X31 -> 414870 | F31: 27. | G31: 1514 | H31: Os 28 | I31: HOCH sport ČB, z.s. | J31: 175000 | K31: 1476000 | L31: 1353149 | M31: 29751 | N31: 0 | O31: 0 | P31: 0 | Q31: =IF(O31=0,0,P31/O31) -> 0 | R31: celkem = 74, Svaz =74 | S31: =Q31*(N31)+M31+L31 -> 1382900 | T31: =$L$44*S31 -> 160892.7 | U31: =$L$44*D31 -> 48267.81 | V31: =IF(U31>J31,J31,IF(U31>$L$43,$L$43,IF(C31*$T$38>$L$43,$L$43,C31*$T$38))) -> 50700.723 | W31: =IF(U31>$L$43,0,IF(U31>J31,0,($K$43-$V$38)*B31))+V31 -> 52522.323 | X31: 0.3 | Y31: =AR31 -> 52522 | AA31: ano | AB31: 133690 | AC31: 21983 | AD31: ano | AL31: =IF(U31>$L$43,1,IF(U31>J31,1,0)) -> 0 | AM31: =INT(W31) -> 52522 | AN31: =W31-AM31 -> 0.32336285 | AO31: =IF(AND(AM31=MIN($AM$5:$AM$37),COUNTIF($AM$5:AM31,AM31)=1),AM31+$AN$38,AM31) -> 52522 | AP31: =IF(U31>$L$43,0,IF(V31>=J31,0,($K$43-$V$38)*B31))+V31 -> 52522.323 | AQ31: =AO31 -> 52522 | AR31: =AQ31 -> 52522
B32: =IF(V32>$L$43,0,IF(U32>J32,0,$V32/SUMIF($AL$5:$AL$37,0,$V$5:$V$37))) -> 0.033100431 | C32: =U32/$U$38 -> 0.02646273 | D32: =S32*X32 -> 2035449.7 | F32: 28. | G32: 1524 | H32: OS 29 | I32: SK Vodní slalom České Budějovice | J32: 570000 | K32: 3281818 | L32: 1179501 | M32: 169785 | N32: 836262 | O32: 195 | P32: 160 | Q32: =IF(O32=0,0,P32/O32) -> 0.82051282 | R32: Celkem= 54, svaz=54 | S32: =Q32*(N32)+M32+L32 -> 2035449.7 | T32: =$L$44*S32 -> 236813.22 | U32: =$L$44*D32 -> 236813.22 | V32: =IF(U32>J32,J32,IF(U32>$L$43,$L$43,IF(C32*$T$38>$L$43,$L$43,C32*$T$38))) -> 248749.66 | W32: =IF(U32>$L$43,0,IF(U32>J32,0,($K$43-$V$38)*B32))+V32 -> 257686.86 | X32: 1 | Y32: =AR32 -> 257686 | AA32: ano | AB32: 33264 | AC32: 202670 | AD32: ano | AL32: =IF(U32>$L$43,1,IF(U32>J32,1,0)) -> 0 | AM32: =INT(W32) -> 257686 | AN32: =W32-AM32 -> 0.85836094 | AO32: =IF(AND(AM32=MIN($AM$5:$AM$37),COUNTIF($AM$5:AM32,AM32)=1),AM32+$AN$38,AM32) -> 257686 | AP32: =IF(U32>$L$43,0,IF(V32>=J32,0,($K$43-$V$38)*B32))+V32 -> 257686.86 | AQ32: =AO32 -> 257686 | AR32: =AQ32 -> 257686
B33: =IF(V33>$L$43,0,IF(U33>J33,0,$V33/SUMIF($AL$5:$AL$37,0,$V$5:$V$37))) -> 0.034606355 | C33: =U33/$U$38 -> 0.027666667 | D33: =S33*X33 -> 2128053.7 | F33: 29. | G33: 1525 | H33: OS 31 | I33: SK Čtyři Dvory, z.s | J33: 720000 | K33: 2939145 | L33: 1857480 | M33: 140361 | N33: 195319 | O33: 300 | P33: 200 | Q33: =IF(O33=0,0,P33/O33) -> 0.66666667 | R33: Celkem=274, svaz=216, ČUS=274 | S33: =Q33*(N33)+M33+L33 -> 2128053.7 | T33: =$L$44*S33 -> 247587.17 | U33: =$L$44*D33 -> 247587.17 | V33: =IF(U33>J33,J33,IF(U33>$L$43,$L$43,IF(C33*$T$38>$L$43,$L$43,C33*$T$38))) -> 260066.67 | W33: =IF(U33>$L$43,0,IF(U33>J33,0,($K$43-$V$38)*B33))+V33 -> 269410.47 | X33: 1 | Y33: =AR33 -> 269410 | AA33: ano | AC33: 255079 | AD33: ano | AL33: =IF(U33>$L$43,1,IF(U33>J33,1,0)) -> 0 | AM33: =INT(W33) -> 269410 | AN33: =W33-AM33 -> 0.47271234 | AO33: =IF(AND(AM33=MIN($AM$5:$AM$37),COUNTIF($AM$5:AM33,AM33)=1),AM33+$AN$38,AM33) -> 269410 | AP33: =IF(U33>$L$43,0,IF(V33>=J33,0,($K$43-$V$38)*B33))+V33 -> 269410.47 | AQ33: =AO33 -> 269410 | AR33: =AQ33 -> 269410
B34: =IF(V34>$L$43,0,IF(U34>J34,0,$V34/SUMIF($AL$5:$AL$37,0,$V$5:$V$37))) -> 0.01690434 | C34: =U34/$U$38 -> 0.013514476 | D34: =S34*X34 -> 1039501.1 | F34: 30. | G34: 1526 | H34: OS 32 | I34: FC NOVÉ HODĚJOVICE, z.s. | J34: 180000 | K34: 1120848 | L34: 443537 | M34: 206378 | N34: 408437 | O34: 130 | P34: 124 | Q34: =IF(O34=0,0,P34/O34) -> 0.95384615 | R34: Celkem=119, svaz=119 | S34: =Q34*(N34)+M34+L34 -> 1039501.1 | T34: =$L$44*S34 -> 120940.15 | U34: =$L$44*D34 -> 120940.15 | V34: =IF(U34>J34,J34,IF(U34>$L$43,$L$43,IF(C34*$T$38>$L$43,$L$43,C34*$T$38))) -> 127036.07 | W34: =IF(U34>$L$43,0,IF(U34>J34,0,($K$43-$V$38)*B34))+V34 -> 131600.29 | X34: 1 | Y34: =AR34 -> 131600 | AA34: ano | AC34: 86018 | AD34: ano | AL34: =IF(U34>$L$43,1,IF(U34>J34,1,0)) -> 0 | AM34: =INT(W34) -> 131600 | AN34: =W34-AM34 -> 0.28657206 | AO34: =IF(AND(AM34=MIN($AM$5:$AM$37),COUNTIF($AM$5:AM34,AM34)=1),AM34+$AN$38,AM34) -> 131600 | AP34: =IF(U34>$L$43,0,IF(V34>=J34,0,($K$43-$V$38)*B34))+V34 -> 131600.29 | AQ34: =AO34 -> 131600 | AR34: =AQ34 -> 131600
B35: =IF(V35>$L$43,0,IF(U35>J35,0,$V35/SUMIF($AL$5:$AL$37,0,$V$5:$V$37))) -> 0.021698418 | C35: =U35/$U$38 -> 0.017347187 | D35: =S35*X35 -> 1334304 | F35: 31. | G35: 0 | H35: OS 33 | I35: JFA ČB, z.s. | J35: 495000 | K35: 1604662 | L35: 1227349 | M35: 106955 | N35: 0 | O35: 72 | P35: 72 | Q35: =IF(O35=0,0,P35/O35) -> 1 | R35: Celkem=125, Svaz=99, ČUS=99, neregist.26 | S35: =Q35*(N35)+M35+L35 -> 1334304 | T35: =$L$44*S35 -> 155238.83 | U35: =$L$44*D35 -> 155238.83 | V35: =IF(U35>J35,J35,IF(U35>$L$43,$L$43,IF(C35*$T$38>$L$43,$L$43,C35*$T$38))) -> 163063.56 | W35: =IF(U35>$L$43,0,IF(U35>J35,0,($K$43-$V$38)*B35))+V35 -> 168922.18 | X35: 1 | Y35: =AR35 -> 168922 | AA35: ano | AC35: 0 | AD35: ano | AL35: =IF(U35>$L$43,1,IF(U35>J35,1,0)) -> 0 | AM35: =INT(W35) -> 168922 | AN35: =W35-AM35 -> 0.18321968 | AO35: =IF(AND(AM35=MIN($AM$5:$AM$37),COUNTIF($AM$5:AM35,AM35)=1),AM35+$AN$38,AM35) -> 168922 | AP35: =IF(U35>$L$43,0,IF(V35>=J35,0,($K$43-$V$38)*B35))+V35 -> 168922.18 | AQ35: =AO35 -> 168922 | AR35: =AQ35 -> 168922
B36: =IF(V36>$L$43,0,IF(U36>J36,0,$V36/SUMIF($AL$5:$AL$37,0,$V$5:$V$37))) -> 0.090118114 | C36: =U36/$U$38 -> 0.072046532 | D36: =S36*X36 -> 5541646.4 | F36: 32. | G36: 1699 | H36: OS 34 | I36: FBC Štíři České Budějovice, z.s. | J36: 800000 | K36: 8912265 | L36: 4359275 | M36: 1182371.4 | N36: 0 | O36: 0 | P36: 0 | Q36: =IF(O36=0,0,P36/O36) -> 0 | R36: Celkem = 468, Svaz=443, nereg.=25 | S36: =Q36*(N36)+M36+L36 -> 5541646.4 | T36: =$L$44*S36 -> 644739.65 | U36: =$L$44*D36 -> 644739.65 | V36: =IF(U36>J36,J36,IF(U36>$L$43,$L$43,IF(C36*$T$38>$L$43,$L$43,C36*$T$38))) -> 677237.4 | W36: =IF(U36>$L$43,0,IF(U36>J36,0,($K$43-$V$38)*B36))+V36 -> 701569.51 | X36: 1 | Y36: =AR36 -> 701569 | AA36: ano | AC36: 684764 | AD36: ano | AL36: =IF(U36>$L$43,1,IF(U36>J36,1,0)) -> 0 | AM36: =INT(W36) -> 701569 | AN36: =W36-AM36 -> 0.51378356 | AO36: =IF(AND(AM36=MIN($AM$5:$AM$37),COUNTIF($AM$5:AM36,AM36)=1),AM36+$AN$38,AM36) -> 701569 | AP36: =IF(U36>$L$43,0,IF(V36>=J36,0,($K$43-$V$38)*B36))+V36 -> 701569.51 | AQ36: =AO36 -> 701569 | AR36: =AQ36 -> 701569
B37: =IF(V37>$L$43,0,IF(U37>J37,0,$V37/SUMIF($AL$5:$AL$37,0,$V$5:$V$37))) -> 0.1028965 | C37: =U37/$U$38 -> 0.08226244 | D37: =S37*X37 -> 6327429.6 | F37: 33. | G37: 1528 | H37: OS 35 | I37: TĚLOVÝCHOVNÁ JEDNOTA LOKOMOTIVA s.z. | J37: 800000 | K37: 9342077 | L37: 4872087 | M37: 311775 | N37: 1274261 | O37: 390 | P37: 350 | Q37: =IF(O37=0,0,P37/O37) -> 0.8974359 | R37: celkem=543, svaz=293, ČUS =250 | S37: =Q37*(N37)+M37+L37 -> 6327429.6 | T37: =$L$44*S37 -> 736161.13 | U37: =$L$44*D37 -> 736161.13 | V37: =IF(U37>J37,J37,IF(U37>$L$43,$L$43,IF(C37*$T$38>$L$43,$L$43,C37*$T$38))) -> 773266.94 | W37: =IF(U37>$L$43,0,IF(U37>J37,0,($K$43-$V$38)*B37))+V37 -> 801049.25 | X37: 1 | Y37: =AR37 -> 800000 | AC37: 794572 | AD37: ano | AL37: =IF(U37>$L$43,1,IF(U37>J37,1,0)) -> 0 | AM37: =INT(W37) -> 801049 | AN37: =W37-AM37 -> 0.24824997 | AO37: =IF(AND(AM37=MIN($AM$5:$AM$37),COUNTIF($AM$5:AM37,AM37)=1),AM37+$AN$38,AM37) -> 801049 | AP37: =IF(U37>$L$43,0,IF(V37>=J37,0,($K$43-$V$38)*B37))+V37 -> 801049.25 | AQ37: 800000 | AR37: =AQ37 -> 800000
F38: Součet | J38: =SUM(J5:J37) -> 17316781 | K38: =SUM(K5:K37) -> 1.4606929e+08 | L38: =SUM(L5:L37) -> 61435420 | M38: =SUM(M5:M37) -> 13394282 | N38: =SUM(N5:N37) -> 10584787 | O38: =SUM(O5:O37) -> 6608 | P38: =SUM(P5:P37) -> 3489 | Q38: =AVERAGE(Q5:Q37) -> 0.31702549 | S38: =SUM(S5:S37) -> 80794591 | T38: =$L$44*S38 -> 9400000 | U38: =SUM(U5:U37) -> 8948933.8 | V38: =SUM(V5:V37) -> 9129997.5 | W38: =SUM(W5:W37) -> 9400000 | X38: =SUM(X5:X37) -> 30.45 | Y38: =SUM(Y5:Y37) -> 9400000 | AB38: =SUM(AB5:AB32) -> 8487108 | AC38: =SUM(AC5:AC37) -> 9133196 | AM38: =SUM(AM5:AM37) -> 9399987 | AN38: =SUM(AN5:AN37) -> 13 | AO38: =SUM(AO5:AO37) -> 9400000 | AR38: =SUM(AR5:AR37) -> 9400000
AQ40: =SUM(AQ5:AQ37) -> 9370196 | AR40: =AO38-AQ40 -> 29804
AR41: =AR40/2 -> 14902
L42: strop
...

Sheet Příloha
B2: SEZNAM VYBRANÝCH ŽÁDOSTÍ (PŘÍLOHA č. 1 K PROTOKOLU)
B5: Název dotačního programu: | E5: Dotační program města České Budějovice na podporu sportu v roce 2024
B6: Opatření | E6: č. 1 - "Příspěvek na činnost výkonnostních mládežnických sportovních klubů"
B7: Hodnotící komise | E7: Sportovní komise
B8: Přítomnost členů | E8: dle prezenční listiny
B9: Jednání hodnotící komise
B10: Věcně příslušný odbor: | E10: školství a tělovýchovy (OŠT)
B12: OPATŘENÍ Č.1 - Příspěvek na činnost výkonnostních mládežnických sportovních klubů | F12: Alokovaná částka v tis. Kč: 9 400 Min. - max. výše dotace v tis Kč: 10 - 800
B13: Poř. číslo | C13: Číslo projektu | D13: Název klubu | E13: Projekt (název) | F13: Navržená dotace | G13: Vybráno | H13: Zamítnuto
B14: 1. | C14: ='OP1 (upr_výp)'!H5 -> OS 1 | D14: ='OP1 (upr_výp)'!I5 -> SK Mladé z.s. | E14: Příspěvek na činnost výkonnostních mládežnických sportovních klubů | F14: ='OP1 (upr_výp)'!Y5 -> 98667 | G14: ANO
B15: 2. | C15: ='OP1 (upr_výp)'!H6 -> OS 2 | D15: ='OP1 (upr_výp)'!I6 -> Sportovní klub moderní gymnastika Máj České Budějovice, z.s. | E15: Příspěvek na činnost výkonnostních mládežnických sportovních klubů | F15: ='OP1 (upr_výp)'!Y6 -> 292787 | G15: ANO
B16: 3. | C16: ='OP1 (upr_výp)'!H7 -> OS 3 | D16: ='OP1 (upr_výp)'!I7 -> Plavecký klub - ŠIK ČB, z. s. | E16: Příspěvek na činnost výkonnostních mládežnických sportovních klubů | F16: ='OP1 (upr_výp)'!Y7 -> 268070 | G16: ANO
B17: 4. | C17: ='OP1 (upr_výp)'!H8 -> OS 1 | D17: ='OP1 (upr_výp)'!I8 -> Merkur České Budějovice z.s. | E17: Příspěvek na činnost výkonnostních mládežnických sportovních klubů | F17: ='OP1 (upr_výp)'!Y8 -> 298628 | G17: ANO
B18: 5. | C18: ='OP1 (upr_výp)'!H9 -> OS 1 | D18: ='OP1 (upr_výp)'!I9 -> BOX CLUB TÁTY NĚMCE z.s. | E18: Příspěvek na činnost výkonnostních mládežnických sportovních klubů | F18: ='OP1 (upr_výp)'!Y9 -> 83012 | G18: ANO
B19: 6. | C19: ='OP1 (upr_výp)'!H10 -> OS 1 | D19: ='OP1 (upr_výp)'!I10 -> Děti do bruslí s.z. | E19: Příspěvek na činnost výkonnostních mládežnických sportovních klubů | F19: ='OP1 (upr_výp)'!Y10 -> 0 | G19: ANO
B20: 7. | C20: ='OP1 (upr_výp)'!H11 -> OS 7 | D20: ='OP1 (upr_výp)'!I11 -> TJ Motor z.s. | E20: Příspěvek na činnost výkonnostních mládežnických sportovních klubů | F20: ='OP1 (upr_výp)'!Y11 -> 127362 | G20: ANO
B21: 8. | C21: ='OP1 (upr_výp)'!H12 -> OS 8 | D21: ='OP1 (upr_výp)'!I12 -> Škola volejbalu s.z. | E21: Příspěvek na činnost výkonnostních mládežnických sportovních klubů | F21: ='OP1 (upr_výp)'!Y12 -> 313364 | G21: ANO
B22: 9. | C22: ='OP1 (upr_výp)'!H13 -> OS 9 | D22: ='OP1 (upr_výp)'!I13 -> Triatlonový sportovní klub České Budějovice z.s. | E22: Příspěvek na činnost výkonnostních mládežnických sportovních klubů | F22: ='OP1 (upr_výp)'!Y13 -> 31927 | G22: ANO
B23: 10. | C23: ='OP1 (upr_výp)'!H14 -> OS 10 | D23: ='OP1 (upr_výp)'!I14 -> SK Meťák z.s. | E23: Příspěvek na činnost výkonnostních mládežnických sportovních klubů | F23: ='OP1 (upr_výp)'!Y14 -> 201841 | G23: ANO
B24: 11. | C24: ='OP1 (upr_výp)'!H15 -> OS 11 | D24: ='OP1 (upr_výp)'!I15 -> SK TŘEBÍN, z.s. | E24: Příspěvek na činnost výkonnostních mládežnických sportovních klubů | F24: ='OP1 (upr_výp)'!Y15 -> 127521 | G24: ANO
B25: 12. | C25: ='OP1 (upr_výp)'!H16 -> OS 12 | D25: ='OP1 (upr_výp)'!I16 -> Tělocvičná jednota Sokol České Budějovice | E25: Příspěvek na činnost výkonnostních mládežnických sportovních klubů | F25: ='OP1 (upr_výp)'!Y16 -> 800000 | G25: ANO
... B46: 33. | C46: ='OP1 (upr_výp)'!H37 -> OS 35 | D46: ='OP1 (upr_výp)'!I37 -> TĚLOVÝCHOVNÁ JEDNOTA LOKOMOTIVA s.z. | E46: Příspěvek na činnost výkonnostních mládežnických sportovních klubů | F46: ='OP1 (upr_výp)'!Y37 -> 800000 | G46: ANO
B47: Součet | F47: =SUM(F14:F46) -> 9400000
