Workbook

Sheet OP1 (upravený výpočet)
I2: PROTOKOL HODNOCENÍ ŽÁDOSTÍ
F3: OPATŘENÍ Č.1 - Příspěvek na činnost výkonnostních mládežnických sportovních klubů (olympijské sporty) | S3: Alokovaná částka v tis. Kč: 9 400 Min. - max. výše dotace v tis Kč: 10 - 800
B4: koeficient pro 3. skrutinium | C4: koeficient pro 2. skrutinium | D4: koeficien krácený komisí | F4: Poř. číslo | G4: EZOP | H4: Číslo projektu | I4: Název klubu | J4: Požadovaná dotace | K4: Náklady klubu - celkem (v Kč) | L4: Náklady za mládež - údržba, chod klubu, sport. potřeby, souteže, startovné, rozhodčí, trenérská činnost, soustředění, zdravotní prohlídky (v Kč) = NM | M4: Celk. náklady klubu na nájmy (v Kč) = N | N4: Celk. náklady klubu na utility (v Kč) = U | O4: Využití zařízení za měsíc celkem (hodin) = C | P4: Využití zařízení vlastními mládežn. mužstvy (hodin) = M | Q4: koeficient využití pro mládež | R4: Celkový počet dětí od 6 do 23 let účastnící se mládežnických soutěží/ počet dětí ve sportovním svazu | S4: Hodnota nákladů na mládež = H | T4: Hodnota dotace na mládež = DH - 1. skrutinium, základní výpočet | U4: Hodnota dotace na mládež = DH - po krácení komisí | V4: Hodnota dotace na mládež = DH - 2. skrutinium zastropování na 1) STROP ($L$42) nebo 2) MAX žadatele (sloupec J) | W4: Hodnota dotace na mládež = DH - 3. skrutinium zastropování | X4: KOEFICIENT: počet registrovaných/neregistrovaných členů sportovním svazem, posouzení, zda klub vyvíjí celoroční činnost, věrohodnost žádosti, chybovost vyúčtování, naplňování smluv z předchozích let, přiměřenost nákladů v místě a čase obvyklých HODNOTA: 0,1 - 1 | Y4: Hodnota = návrh dotace SK ze dne 2.5.2024 | Z4: Ponížení koeficientu (zdůvodnění) | AA4: Můj klub 2022 přiložená žádost | AC4: dotace v roce 2023 Alokovaná částka v tis. Kč: 9 400 Min. - max. výše dotace v tis Kč: 10 - 800 | AD4: Můj klub | BA4: žadatel, u kterého došlo k ohraničení (STROP nebo MAX) NEMAZAT!!!
B5: =IF(U5>$L$43,0,IF(U5>J5,0,$V5/SUMIF($BA$5:$BA$37,0,$V$5:$V$37))) -> 0.031158831 | C5: =U5/$U$38 -> 0.020287268 | D5: =S5*X5 -> 1356020.9 | F5: 1. | G5: 1624 | H5: OS 25 | I5: SK Vodní Slalom České Budějovice, z.s. | J5: 540000 | K5: 2498000 | L5: 999287 | M5: 151641 | N5: 249957 | O5: 195 | P5: 160 | Q5: =IF(O5=0,0,P5/O5) -> 0.82051282 | R5: Celkem - 55 dětí, Český svaz kanoistů - 55 dětí | S5: =Q5*(N5)+M5+L5 -> 1356020.9 | T5: =$L$44*S5 -> 187028.84 | U5: =$L$44*D5 -> 187028.84 | V5: =IF(U5>J5,J5,IF(U5>$L$43,$L$43,C5*$T$38)) -> 190700.32 | W5: =IF(U5>$L$43,0,IF(U5>J5,0,($K$43-$V$38)*B5))+V5 -> 210851.81 | X5: 1 | Y5: =W5 -> 210851.81 | AA5: ano | AB5: 196184 | AC5: 293590 | AD5: ANO | BA5: =IF(U5>$L$43,1,IF(U5>J5,1,0)) -> 0
B6: =IF(U6>$L$43,0,IF(U6>J6,0,$V6/SUMIF($BA$5:$BA$37,0,$V$5:$V$37))) -> 0.04090147 | C6: =U6/$U$38 -> 0.026630623 | D6: =S6*X6 -> 1780017 | F6: 2. | G6: 1624 | H6: OS 25 | I6: Florbalová akademie České Budějovice,z.s. | J6: 800000 | K6: 2355000 | L6: 1584215 | M6: 195802 | N6: 0 | O6: 0 | P6: 0 | Q6: =IF(O6=0,0,P6/O6) -> 0 | R6: Celkem - 345 dětí, Český florbal - 345 dětí | S6: =Q6*(N6)+M6+L6 -> 1780017 | T6: =$L$44*S6 -> 245508.39 | U6: =$L$44*D6 -> 245508.39 | V6: =IF(U6>J6,J6,IF(U6>$L$43,$L$43,C6*$T$38)) -> 250327.86 | W6: =IF(U6>$L$43,0,IF(U6>J6,0,($K$43-$V$38)*B6))+V6 -> 276780.25 | X6: 1 | Y6: =W6 -> 276780.25 | AA6: ano | AB6: 333508 | AC6: 270657 | AD6: ANO | BA6: =IF(U6>$L$43,1,IF(U6>J6,1,0)) -> 0
B7: =IF(U7>$L$43,0,IF(U7>J7,0,$V7/SUMIF($BA$5:$BA$37,0,$V$5:$V$37))) -> 0 | C7: =U7/$U$38 -> 0.10840555 | D7: =S7*X7 -> 7245933.6 | F7: 3. | G7: 1580 | H7: OS 09 | I7: Tělocvičná jednota Sokol České Budějovice | J7: 800000 | K7: 19838786 | L7: 5963348 | M7: 256354 | N7: 2565579 | O7: 1225 | P7: 490 | Q7: =IF(O7=0,0,P7/O7) -> 0.4 | R7: Celkem (ČUS, Župa) 842 dětí (514 ve svazu), JČ krajský atletický svaz: 381 dětí, Český badmintonový svaz - 68 dětí, Česká asociace stolního tenisu - 15 dětí, Český korbalový svaz - 32 dětí, Česká asociace létajícího disku - 18 dětí, | S7: =Q7*(N7)+M7+L7 -> 7245933.6 | T7: =$L$44*S7 -> 999393.52 | U7: =$L$44*D7 -> 999393.52 | V7: =IF(U7>J7,J7,IF(U7>$L$43,$L$43,C7*$T$38)) -> 800000 | W7: =IF(U7>$L$43,0,IF(U7>J7,0,($K$43-$V$38)*B7))+V7 -> 800000 | X7: 1 | Y7: =W7 -> 800000 | AA7: ano | AB7: 750000 | AC7: 900000 | AD7: ANO | BA7: =IF(U7>$L$43,1,IF(U7>J7,1,0)) -> 1
B8: =IF(U8>$L$43,0,IF(U8>J8,0,$V8/SUMIF($BA$5:$BA$37,0,$V$5:$V$37))) -> 0.017063976 | C8: =U8/$U$38 -> 0.01111022 | D8: =S8*X8 -> 742618 | F8: 4. | G8: 1596 | H8: OS 16 | I8: Tělovýchovná jednota SK Čéčova České Budějovice, z.s. | J8: 450000 | K8: 895063 | L8: 659463 | M8: 83155 | N8: 0 | O8: 0 | P8: 0 | Q8: =IF(O8=0,0,P8/O8) -> 0 | R8: Celkem (ČUS) - 191 dětí, Český atletický svaz - 191 dětí | S8: =Q8*(N8)+M8+L8 -> 742618 | T8: =$L$44*S8 -> 102425.4 | U8: =$L$44*D8 -> 102425.4 | V8: =IF(U8>J8,J8,IF(U8>$L$43,$L$43,C8*$T$38)) -> 104436.07 | W8: =IF(U8>$L$43,0,IF(U8>J8,0,($K$43-$V$38)*B8))+V8 -> 115471.93 | X8: 1 | Y8: =W8 -> 115471.93 | AA8: ano | AB8: 134340 | AC8: 111414 | AD8: ANO | BA8: =IF(U8>$L$43,1,IF(U8>J8,1,0)) -> 0
B9: =IF(U9>$L$43,0,IF(U9>J9,0,$V9/SUMIF($BA$5:$BA$37,0,$V$5:$V$37))) -> 0.037080988 | C9: =U9/$U$38 -> 0.024143138 | D9: =S9*X9 -> 1613751 | F9: 5. | G9: 1649 | H9: OS 38 | I9: Merkur České Budějovice, z.s. | J9: 270000 | K9: 2076081 | L9: 1421488 | M9: 72455 | N9: 207360 | O9: 225 | P9: 130 | Q9: =IF(O9=0,0,P9/O9) -> 0.57777778 | R9: Celkem (ČUS) - 129 dětí Česká gymnastická federace - 69 dětí | S9: =Q9*(N9)+M9+L9 -> 1613751 | T9: =$L$44*S9 -> 222576.19 | U9: =$L$44*D9 -> 222576.19 | V9: =IF(U9>J9,J9,IF(U9>$L$43,$L$43,C9*$T$38)) -> 226945.49 | W9: =IF(U9>$L$43,0,IF(U9>J9,0,($K$43-$V$38)*B9))+V9 -> 250927.04 | X9: 1 | Y9: =W9 -> 250927.04 | AA9: ano | AB9: 256065 | AC9: 202426 | AD9: ANO | BA9: =IF(U9>$L$43,1,IF(U9>J9,1,0)) -> 0
B10: =IF(U10>$L$43,0,IF(U10>J10,0,$V10/SUMIF($BA$5:$BA$37,0,$V$5:$V$37))) -> 0 | C10: =U10/$U$38 -> 0.091687012 | D10: =S10*X10 -> 6128449.8 | F10: 6. | G10: 1673 | H10: OS 35 | I10: TĚLOVÝCHOVNÁ JEDNOTA LOKOMOTIVA z.s. | J10: 700000 | K10: 8323815 | L10: 4517614 | M10: 591547 | N10: 1135779 | O10: 390 | P10: 350 | Q10: =IF(O10=0,0,P10/O10) -> 0.8974359 | R10: celkem - 583, Český svaz házené - 141 dětí, Krajský fotbalový svaz - 171 dětí, Sport pro všechny - 267 dětí | S10: =Q10*(N10)+M10+L10 -> 6128449.8 | T10: =$L$44*S10 -> 845264.86 | U10: =$L$44*D10 -> 845264.86 | V10: =IF(U10>J10,J10,IF(U10>$L$43,$L$43,C10*$T$38)) -> 700000 | W10: =IF(U10>$L$43,0,IF(U10>J10,0,($K$43-$V$38)*B10))+V10 -> 700000 | X10: 1 | Y10: =W10 -> 700000 | AA10: ano | AB10: 452857 | AC10: 635634 | AD10: ANO | BA10: =IF(U10>$L$43,1,IF(U10>J10,1,0)) -> 1
B11: =IF(U11>$L$43,0,IF(U11>J11,0,$V11/SUMIF($BA$5:$BA$37,0,$V$5:$V$37))) -> 0.026844068 | C11: =U11/$U$38 -> 0.01747796 | D11: =S11*X11 -> 1168244 | F11: 7. | G11: 1616 | H11: OS 39 | I11: Bruslařský klub České Budějovice z.s. | J11: 450000 | K11: 1347616 | L11: 506013 | M11: 662231 | N11: 0 | O11: 0 | P11: 0 | Q11: =IF(O11=0,0,P11/O11) -> 0 | R11: Celkem - 39 dětí, Český krasobruslařský svaz - 34 dětí | S11: =Q11*(N11)+M11+L11 -> 1168244 | T11: =$L$44*S11 -> 161129.75 | U11: =$L$44*D11 -> 161129.75 | V11: =IF(U11>J11,J11,IF(U11>$L$43,$L$43,C11*$T$38)) -> 164292.82 | W11: =IF(U11>$L$43,0,IF(U11>J11,0,($K$43-$V$38)*B11))+V11 -> 181653.81 | X11: 1 | Y11: =W11 -> 181653.81 | AA11: ano | AB11: 219621 | AC11: 165840 | AD11: ANO | BA11: =IF(U11>$L$43,1,IF(U11>J11,1,0)) -> 0
B12: =IF(U12>$L$43,0,IF(U12>J12,0,$V12/SUMIF($BA$5:$BA$37,0,$V$5:$V$37))) -> 0.081843628 | C12: =U12/$U$38 -> 0.053287738 | D12: =S12*X12 -> 3561804.7 | F12: 8. | G12: 1605 | H12: OS 03 | I12: LTC VITON České Budějovice, z.s. | J12: 900000 | K12: 11942000 | L12: 2751946 | M12: 325532 | N12: 900545 | O12: 1190 | P12: 640 | Q12: =IF(O12=0,0,P12/O12) -> 0.53781513 | R12: Celkem (ČUS) - 172 dětí, Český tenisový svaz - 43 dětí | S12: =Q12*(N12)+M12+L12 -> 3561804.7 | T12: =$L$44*S12 -> 491261 | U12: =$L$44*D12 -> 491261 | V12: =IF(U12>J12,J12,IF(U12>$L$43,$L$43,C12*$T$38)) -> 500904.74 | W12: =IF(U12>$L$43,0,IF(U12>J12,0,($K$43-$V$38)*B12))+V12 -> 553835.83 | X12: 1 | Y12: =W12 -> 553835.83 | AA12: ano | AB12: 653437 | AC12: 564044 | AD12: ANO | BA12: =IF(U12>$L$43,1,IF(U12>J12,1,0)) -> 0
B13: =IF(U13>$L$43,0,IF(U13>J13,0,$V13/SUMIF($BA$5:$BA$37,0,$V$5:$V$37))) -> 0 | C13: =U13/$U$38 -> 0.096508622 | D13: =S13*X13 -> 6450731 | F13: 9. | G13: 1565 | H13: OS 01 | I13: HC MAD BULL, z. s. | J13: 800000 | K13: 7480741 | L13: 2759256 | M13: 3691475 | N13: 0 | O13: 0 | P13: 0 | Q13: =IF(O13=0,0,P13/O13) -> 0 | R13: Celkem - 157 dětí, Český svaz ledního hokeje - 146 dětí | S13: =Q13*(N13)+M13+L13 -> 6450731 | T13: =$L$44*S13 -> 889715.41 | U13: =$L$44*D13 -> 889715.41 | V13: =IF(U13>J13,J13,IF(U13>$L$43,$L$43,C13*$T$38)) -> 800000 | W13: =IF(U13>$L$43,0,IF(U13>J13,0,($K$43-$V$38)*B13))+V13 -> 800000 | X13: 1 | Y13: =W13 -> 800000 | AA13: ano | AB13: 731614 | AC13: 687063 | AD13: ANO | BA13: =IF(U13>$L$43,1,IF(U13>J13,1,0)) -> 1
B14: =IF(U14>$L$43,0,IF(U14>J14,0,$V14/SUMIF($BA$5:$BA$37,0,$V$5:$V$37))) -> 0.030150255 | C14: =U14/$U$38 -> 0.019630593 | D14: =S14*X14 -> 1312128.1 | F14: 10. | G14: 1609 | H14: OS 04 | I14: Plavecký klub - ŠIK ČB, z.s. | J14: 800000 | K14: 9991000 | L14: 1420994 | M14: 878878 | N14: 885481 | O14: 202 | P14: 74 | Q14: =IF(O14=0,0,P14/O14) -> 0.36633663 | R14: Celkem - 260 dětí, Český svaz plaveckých sportů - 260 dětí | S14: =Q14*(N14)+M14+L14 -> 2624256.1 | T14: =$L$44*S14 -> 361949.85 | U14: =$L$44*D14 -> 180974.92 | V14: =IF(U14>J14,J14,IF(U14>$L$43,$L$43,C14*$T$38)) -> 184527.57 | W14: =IF(U14>$L$43,0,IF(U14>J14,0,($K$43-$V$38)*B14))+V14 -> 204026.78 | X14: 0.5 | Y14: =W14 -> 204026.78 | Z14: přiměřenost nákladů v místě a čase obvyklých | AA14: ano | AB14: 395191 | AC14: 161889 | AD14: ANO | BA14: =IF(U14>$L$43,1,IF(U14>J14,1,0)) -> 0
B15: =IF(U15>$L$43,0,IF(U15>J15,0,$V15/SUMIF($BA$5:$BA$37,0,$V$5:$V$37))) -> 0.11200571 | C15: =U15/$U$38 -> 0.072926033 | D15: =S15*X15 -> 4874447.6 | F15: 11. | G15: 1600 | H15: OS 18 | I15: Sportovní klub policie České Budějovice, z.s. | J15: 800000 | K15: 6578769 | L15: 3860341 | M15: 424739 | N15: 806503 | O15: 520 | P15: 380 | Q15: =IF(O15=0,0,P15/O15) -> 0.73076923 | R15: Celkem (ČUS) - 428 dětí, registrovaní svazem 355 dětí Okresní fotbalový svaz - 196 dětí, Jihočeský krajský atletický svaz - 19 dětí, Český svaz karate - 60 dětí, Jihočeský svaz japonského karate - 63 dětí, Krajský florbalový svaz - 17 dětí, | S15: =Q15*(N15)+M15+L15 -> 4874447.6 | T15: =$L$44*S15 -> 672306.92 | U15: =$L$44*D15 -> 672306.92 | V15: =IF(U15>J15,J15,IF(U15>$L$43,$L$43,C15*$T$38)) -> 685504.71 | W15: =IF(U15>$L$43,0,IF(U15>J15,0,($K$43-$V$38)*B15))+V15 -> 757942.65 | X15: 1 | Y15: =W15 -> 757942.65 | AA15: ano | AB15: 571173 | AC15: 705721 | AD15: ANO | BA15: =IF(U15>$L$43,1,IF(U15>J15,1,0)) -> 0
B16: =IF(U16>$L$43,0,IF(U16>J16,0,$V16/SUMIF($BA$5:$BA$37,0,$V$5:$V$37))) -> 0.011056279 | C16: =U16/$U$38 -> 0.0071986557 | D16: =S16*X16 -> 481165.21 | F16: 12. | G16: 1560 | H16: OS 10 v OP2 | I16: Orel jednota České Budějovice | J16: 500000 | K16: 3853000 | L16: 370573 | M16: 0 | N16: 292688 | O16: 614 | P16: 232 | Q16: =IF(O16=0,0,P16/O16) -> 0.37785016 | R16: Celkem (ČUS) - 351 dětí, Český horolezecký svaz - 299 dětí | S16: =Q16*(N16)+M16+L16 -> 481165.21 | T16: =$L$44*S16 -> 66364.587 | U16: =$L$44*D16 -> 66364.587 | V16: =IF(U16>J16,J16,IF(U16>$L$43,$L$43,C16*$T$38)) -> 67667.363 | W16: =IF(U16>$L$43,0,IF(U16>J16,0,($K$43-$V$38)*B16))+V16 -> 74817.839 | X16: 1 | Y16: =W16 -> 74817.839 | AA16: ano | AB16: 603885 | AC16: nežádali | AD16: ANO | BA16: =IF(U16>$L$43,1,IF(U16>J16,1,0)) -> 0
B17: =IF(U17>$L$43,0,IF(U17>J17,0,$V17/SUMIF($BA$5:$BA$37,0,$V$5:$V$37))) -> 0.021751792 | C17: =U17/$U$38 -> 0.014162419 | D17: =S17*X17 -> 946630 | F17: 13. | G17: 1613 | H17: OS 27 | I17: SKI TEAM BUDWEIS, z.s. | J17: 540000 | K17: 1119582 | L17: 690070 | M17: 256560 | N17: 0 | O17: 0 | P17: 0 | Q17: =IF(O17=0,0,P17/O17) -> 0 | R17: Celkem (ČUS) - 25 dětí, Svaz lyžařů ČR - 25 dětí | S17: =Q17*(N17)+M17+L17 -> 946630 | T17: =$L$44*S17 -> 130563.7 | U17: =$L$44*D17 -> 130563.7 | V17: =IF(U17>J17,J17,IF(U17>$L$43,$L$43,C17*$T$38)) -> 133126.74 | W17: =IF(U17>$L$43,0,IF(U17>J17,0,($K$43-$V$38)*B17))+V17 -> 147194.37 | X17: 1 | Y17: =W17 -> 147194.37 | AA17: ano | AB17: 207495 | AC17: 150853 | AD17: NE | BA17: =IF(U17>$L$43,1,IF(U17>J17,1,0)) -> 0
B18: =IF(U18>$L$43,0,IF(U18>J18,0,$V18/SUMIF($BA$5:$BA$37,0,$V$5:$V$37))) -> 0.044104231 | C18: =U18/$U$38 -> 0.028715916 | D18: =S18*X18 -> 1919400 | F18: 14. | G18: 1692 | H18: OS 28 | I18: Tělovýchovná jednota KOH-I-NOOR České Budějovice, z.s. | J18: 800000 | K18: 3520844 | L18: 1269664 | M18: 649736 | N18: 0 | O18: 0 | P18: 0 | Q18: =IF(O18=0,0,P18/O18) -> 0 | R18: Celkem 474 dětí, Český svaz plaveckých sportů - 200 dětí | S18: =Q18*(N18)+M18+L18 -> 1919400 | T18: =$L$44*S18 -> 264732.75 | U18: =$L$44*D18 -> 264732.75 | V18: =IF(U18>J18,J18,IF(U18>$L$43,$L$43,C18*$T$38)) -> 269929.61 | W18: =IF(U18>$L$43,0,IF(U18>J18,0,($K$43-$V$38)*B18))+V18 -> 298453.33 | X18: 1 | Y18: =W18 -> 298453.33 | AA18: ano | AB18: 405263 | AC18: 364268 | AD18: ANO | BA18: =IF(U18>$L$43,1,IF(U18>J18,1,0)) -> 0
B19: =IF(U19>$L$43,0,IF(U19>J19,0,$V19/SUMIF($BA$5:$BA$37,0,$V$5:$V$37))) -> 0.062265666 | C19: =U19/$U$38 -> 0.040540683 | D19: =S19*X19 -> 2709779 | F19: 15. | G19: 1569 | H19: OS 10 | I19: Sportovní klub moderní gymnastika Máj České Budějovice z.s. | J19: 800000 | K19: 3006599 | L19: 1810868 | M19: 898911 | N19: 0 | O19: 0 | P19: 0 | Q19: =IF(O19=0,0,P19/O19) -> 0 | R19: Celkem (ČUS) - 81 dětí, Český svaz moderní gymnastiky - 81 členů | S19: =Q19*(N19)+M19+L19 -> 2709779 | T19: =$L$44*S19 -> 373745.57 | U19: =$L$44*D19 -> 373745.57 | V19: =IF(U19>J19,J19,IF(U19>$L$43,$L$43,C19*$T$38)) -> 381082.42 | W19: =IF(U19>$L$43,0,IF(U19>J19,0,($K$43-$V$38)*B19))+V19 -> 421351.76 | X19: 1 | Y19: =W19 -> 421351.76 | AA19: ano | AB19: 317184 | AC19: 330131 | AD19: ANO | BA19: =IF(U19>$L$43,1,IF(U19>J19,1,0)) -> 0
B20: =IF(U20>$L$43,0,IF(U20>J20,0,$V20/SUMIF($BA$5:$BA$37,0,$V$5:$V$37))) -> 0.10683902 | C20: =U20/$U$38 -> 0.06956204 | D20: =S20*X20 -> 4649595 | F20: 16. | G20: 1693 | H20: OS 32 | I20: FBC Štíři České Budějovice, z.s. | J20: 800000 | K20: 7560859 | L20: 3613206 | M20: 1036389 | N20: 0 | O20: 0 | P20: 0 | Q20: =IF(O20=0,0,P20/O20) -> 0 | R20: Celkem (ČUS) - 420 dětí, Český florbal - 420 dětí | S20: =Q20*(N20)+M20+L20 -> 4649595 | T20: =$L$44*S20 -> 641294.19 | U20: =$L$44*D20 -> 641294.19 | V20: =IF(U20>J20,J20,IF(U20>$L$43,$L$43,C20*$T$38)) -> 653883.17 | W20: =IF(U20>$L$43,0,IF(U20>J20,0,($K$43-$V$38)*B20))+V20 -> 722979.65 | X20: 1 | Y20: =W20 -> 722979.65 | AA20: ano | AC20: 652420 | AD20: ANO | BA20: =IF(U20>$L$43,1,IF(U20>J20,1,0)) -> 0
B21: =IF(U21>$L$43,0,IF(U21>J21,0,$V21/SUMIF($BA$5:$BA$37,0,$V$5:$V$37))) -> 0.0028894085 | C21: =U21/$U$38 -> 0.001881271 | D21: =S21*X21 -> 125746 | F21: 17. | G21: 1647 | H21: OS 30 | I21: HOCH sport ČB z.s. | J21: 81000 | K21: 158946 | L21: 117346 | M21: 8400 | N21: 0 | O21: 0 | P21: 0 | Q21: =IF(O21=0,0,P21/O21) -> 0 | R21: Celkem 74 dětí, Česká basketbalová federace - 57 dětí, | S21: =Q21*(N21)+M21+L21 -> 125746 | T21: =$L$44*S21 -> 17343.485 | U21: =$L$44*D21 -> 17343.485 | V21: =IF(U21>J21,J21,IF(U21>$L$43,$L$43,C21*$T$38)) -> 17683.947 | W21: =IF(U21>$L$43,0,IF(U21>J21,0,($K$43-$V$38)*B21))+V21 -> 19552.627 | X21: 1 | Y21: =W21 -> 19552.627 | AA21: ano | AB21: 549672 | AC21: nežádali | AD21: ANO | BA21: =IF(U21>$L$43,1,IF(U21>J21,1,0)) -> 0
B22: =IF(U22>$L$43,0,IF(U22>J22,0,$V22/SUMIF($BA$5:$BA$37,0,$V$5:$V$37))) -> 0.022590131 | C22: =U22/$U$38 -> 0.014708256 | D22: =S22*X22 -> 983114.23 | F22: 18. | G22: 1594 | H22: OS 08 | I22: TJ Meteor České Budějovice z.s. | J22: 675000 | K22: 2120172 | L22: 729495 | M22: 242495 | N22: 333727 | O22: 450 | P22: 15 | Q22: =IF(O22=0,0,P22/O22) -> 0.033333333 | R22: Celkem (ČUS) - 167 dětí, Český svaz moderní gymnastiky - 122 členů | S22: =Q22*(N22)+M22+L22 -> 983114.23 | T22: =$L$44*S22 -> 135595.78 | U22: =$L$44*D22 -> 135595.78 | V22: =IF(U22>J22,J22,IF(U22>$L$43,$L$43,C22*$T$38)) -> 138257.6 | W22: =IF(U22>$L$43,0,IF(U22>J22,0,($K$43-$V$38)*B22))+V22 -> 152867.42 | X22: 1 | Y22: =W22 -> 152867.42 | AA22: ano | AB22: 183154 | AC22: 128633 | AD22: ANO | BA22: =IF(U22>$L$43,1,IF(U22>J22,1,0)) -> 0
B23: =IF(U23>$L$43,0,IF(U23>J23,0,$V23/SUMIF($BA$5:$BA$37,0,$V$5:$V$37))) -> 0.07828292 | C23: =U23/$U$38 -> 0.050969389 | D23: =S23*X23 -> 3406844 | F23: 19. | G23: 1646 | H23: OS 07 | I23: PLAVÁNÍ České Budějovice, z.s. | J23: 800000 | K23: 8910604 | L23: 2128932 | M23: 1277912 | N23: 0 | O23: 0 | P23: 0 | Q23: =IF(O23=0,0,P23/O23) -> 0 | R23: Celkem (ČUS) - 404 dětí, Český svaz plaveckých sportů - 101 dětí | S23: =Q23*(N23)+M23+L23 -> 3406844 | T23: =$L$44*S23 -> 469888.08 | U23: =$L$44*D23 -> 469888.08 | V23: =IF(U23>J23,J23,IF(U23>$L$43,$L$43,C23*$T$38)) -> 479112.26 | W23: =IF(U23>$L$43,0,IF(U23>J23,0,($K$43-$V$38)*B23))+V23 -> 529740.52 | X23: 1 | Y23: =W23 -> 529740.52 | AA23: ano | AB23: 703921 | AC23: 557900 | AD23: ANO | BA23: =IF(U23>$L$43,1,IF(U23>J23,1,0)) -> 0
B24: =IF(U24>$L$43,0,IF(U24>J24,0,$V24/SUMIF($BA$5:$BA$37,0,$V$5:$V$37))) -> 0.036674418 | C24: =U24/$U$38 -> 0.023878423 | D24: =S24*X24 -> 1596057.2 | F24: 20. | G24: 1608 | H24: OS 14 | I24: SK Mladé z.s. | J24: 800000 | K24: 2469803 | L24: 497060 | M24: 49700 | N24: 1269150 | O24: 127 | P24: 105 | Q24: =IF(O24=0,0,P24/O24) -> 0.82677165 | R24: Celkem (ČUS) - 203 dětí, FAČR - 111 dětí | S24: =Q24*(N24)+M24+L24 -> 1596057.2 | T24: =$L$44*S24 -> 220135.78 | U24: =$L$44*D24 -> 220135.78 | V24: =IF(U24>J24,J24,IF(U24>$L$43,$L$43,C24*$T$38)) -> 224457.18 | W24: =IF(U24>$L$43,0,IF(U24>J24,0,($K$43-$V$38)*B24))+V24 -> 248175.79 | X24: 1 | Y24: =W24 -> 248175.79 | AA24: ano | AB24: 165527 | AC24: 173816 | AD24: ANO | BA24: =IF(U24>$L$43,1,IF(U24>J24,1,0)) -> 0
B25: =IF(U25>$L$43,0,IF(U25>J25,0,$V25/SUMIF($BA$5:$BA$37,0,$V$5:$V$37))) -> 0 | C25: =U25/$U$38 -> 0.018405595 | D25: =S25*X25 -> 1230248 | F25: 21. | G25: 1568 | H25: OS 13 | I25: SK TŘEBÍN, z.s. | J25: 153000 | K25: 1400990 | L25: 1132479 | M25: 97769 | N25: 0 | O25: 0 | P25: 0 | Q25: =IF(O25=0,0,P25/O25) -> 0 | R25: Celkem - 114 dětí, Český volejbalový svaz -114 dětí | S25: =Q25*(N25)+M25+L25 -> 1230248 | T25: =$L$44*S25 -> 169681.64 | U25: =$L$44*D25 -> 169681.64 | V25: =IF(U25>J25,J25,IF(U25>$L$43,$L$43,C25*$T$38)) -> 153000 | W25: =IF(U25>$L$43,0,IF(U25>J25,0,($K$43-$V$38)*B25))+V25 -> 153000 | X25: 1 | Y25: =W25 -> 153000 | AA25: ano | AB25: 115685 | AC25: 116071 | AD25: ANO | BA25: =IF(U25>$L$43,1,IF(U25>J25,1,0)) -> 1
B26: =IF(U26>$L$43,0,IF(U26>J26,0,$V26/SUMIF($BA$5:$BA$37,0,$V$5:$V$37))) -> 0 | C26: =U26/$U$38 -> 0.033901133 | D26: =S26*X26 -> 2265985 | F26: 22. | G26: 1614 | H26: OS 24 | I26: Basketbalový Sportovní Klub České Budějovice, z.s. | J26: 180000 | K26: 3561179 | L26: 2067009 | M26: 198976 | N26: 0 | O26: 0 | P26: 0 | Q26: =IF(O26=0,0,P26/O26) -> 0 | R26: Celkem (ČUS) - 304 dětí, Česká basketbalová federace - 163 dětí | S26: =Q26*(N26)+M26+L26 -> 2265985 | T26: =$L$44*S26 -> 312535.4 | U26: =$L$44*D26 -> 312535.4 | V26: =IF(U26>J26,J26,IF(U26>$L$43,$L$43,C26*$T$38)) -> 180000 | W26: =IF(U26>$L$43,0,IF(U26>J26,0,($K$43-$V$38)*B26))+V26 -> 180000 | X26: 1 | Y26: =W26 -> 180000 | AA26: ano | AB26: 159528 | AC26: 245000 | AD26: ANO | BA26: =IF(U26>$L$43,1,IF(U26>J26,1,0)) -> 1
B27: =IF(U27>$L$43,0,IF(U27>J27,0,$V27/SUMIF($BA$5:$BA$37,0,$V$5:$V$37))) -> 0.014261568 | C27: =U27/$U$38 -> 0.0092855938 | D27: =S27*X27 -> 620658.2 | F27: 23. | G27: 1621 | H27: OS 20 | I27: TJ Motor z.s. | J27: 750000 | K27: 865589 | L27: 554430 | M27: 50634 | N27: 155942 | O27: 200 | P27: 20 | Q27: =IF(O27=0,0,P27/O27) -> 0.1 | R27: Celkem (ČUS) - 51 dětí, Český svaz lyžařů ČR - 24 dětí , tenis - 17 dětí, vodní turistika - 10 dětí | S27: =Q27*(N27)+M27+L27 -> 620658.2 | T27: =$L$44*S27 -> 85604.122 | U27: =$L$44*D27 -> 85604.122 | V27: =IF(U27>J27,J27,IF(U27>$L$43,$L$43,C27*$T$38)) -> 87284.582 | W27: =IF(U27>$L$43,0,IF(U27>J27,0,($K$43-$V$38)*B27))+V27 -> 96508.028 | X27: 1 | Y27: =W27 -> 96508.028 | AA27: ano | AB27: 123120 | AC27: 112540 | AD27: ANO | BA27: =IF(U27>$L$43,1,IF(U27>J27,1,0)) -> 0
B28: =IF(U28>$L$43,0,IF(U28>J28,0,$V28/SUMIF($BA$5:$BA$37,0,$V$5:$V$37))) -> 0.0059579775 | C28: =U28/$U$38 -> 0.003879192 | D28: =S28*X28 -> 259289 | F28: 24. | G28: 1615 | H28: OS 33 | I28: "Triatlonový sportovní klub České Budějovice z.s." | J28: 90000 | K28: 475572 | L28: 259289 | M28: 0 | N28: 0 | O28: 0 | P28: 0 | Q28: =IF(O28=0,0,P28/O28) -> 0 | R28: Celkem (ČUS) - 22 dětí, Česká triatlonová asociace - 20 dětí | S28: =Q28*(N28)+M28+L28 -> 259289 | T28: =$L$44*S28 -> 35762.368 | U28: =$L$44*D28 -> 35762.368 | V28: =IF(U28>J28,J28,IF(U28>$L$43,$L$43,C28*$T$38)) -> 36464.405 | W28: =IF(U28>$L$43,0,IF(U28>J28,0,($K$43-$V$38)*B28))+V28 -> 40317.634 | X28: 1 | Y28: =W28 -> 40317.634 | AA28: ano | AB28: 18191 | AC28: 29609 | AD28: NE | BA28: =IF(U28>$L$43,1,IF(U28>J28,1,0)) -> 0
B29: =IF(U29>$L$43,0,IF(U29>J29,0,$V29/SUMIF($BA$5:$BA$37,0,$V$5:$V$37))) -> 0.010003347 | C29: =U29/$U$38 -> 0.0065131001 | D29: =S29*X29 -> 435342 | F29: 25. | G29: 1682 | H29: OS 36 | I29: Rugby Club České Budějovice, z.s. | J29: 350000 | K29: 853495 | L29: 376414 | M29: 58928 | N29: 0 | O29: 0 | P29: 0 | Q29: =IF(O29=0,0,P29/O29) -> 0 | R29: Celkem (ČUS) - 81 dětí, Česká rugbyová unie - 81 dětí | S29: =Q29*(N29)+M29+L29 -> 435342 | T29: =$L$44*S29 -> 60044.433 | U29: =$L$44*D29 -> 60044.433 | V29: =IF(U29>J29,J29,IF(U29>$L$43,$L$43,C29*$T$38)) -> 61223.141 | W29: =IF(U29>$L$43,0,IF(U29>J29,0,($K$43-$V$38)*B29))+V29 -> 67692.649 | X29: 1 | Y29: =W29 -> 67692.649 | AA29: ano | AB29: 17034 | AC29: 41033 | AD29: ANO | BA29: =IF(U29>$L$43,1,IF(U29>J29,1,0)) -> 0
B30: =IF(U30>$L$43,0,IF(U30>J30,0,$V30/SUMIF($BA$5:$BA$37,0,$V$5:$V$37))) -> 0.040819331 | C30: =U30/$U$38 -> 0.026577143 | D30: =S30*X30 -> 1776442.3 | F30: 26. | G30: 1612 | H30: OS 23 | I30: SK Čtyři Dvory,z.s. | J30: 720000 | K30: 2187899 | L30: 1551441 | M30: 105060 | N30: 179912 | O30: 300 | P30: 200 | Q30: =IF(O30=0,0,P30/O30) -> 0.66666667 | R30: Celkem (ČUS) - 553 dětí, Jihočeský krajský fotbalový svaz - 210 dětí, Český atletický svaz - 167 dětí | S30: =Q30*(N30)+M30+L30 -> 1776442.3 | T30: =$L$44*S30 -> 245015.35 | U30: =$L$44*D30 -> 245015.35 | V30: =IF(U30>J30,J30,IF(U30>$L$43,$L$43,C30*$T$38)) -> 249825.15 | W30: =IF(U30>$L$43,0,IF(U30>J30,0,($K$43-$V$38)*B30))+V30 -> 276224.41 | X30: 1 | Y30: =W30 -> 276224.41 | AA30: ano | AB30: 56505 | AC30: 432470 | AD30: ANO | BA30: =IF(U30>$L$43,1,IF(U30>J30,1,0)) -> 0
B31: =IF(U31>$L$43,0,IF(U31>J31,0,$V31/SUMIF($BA$5:$BA$37,0,$V$5:$V$37))) -> 0.039797141 | C31: =U31/$U$38 -> 0.025911603 | D31: =S31*X31 -> 1731957 | F31: 27. | G31: 1651 | H31: OS 22 | I31: SK Meťák z.s. | J31: 800000 | K31: 4265820 | L31: 1259706 | M31: 472251 | N31: 0 | O31: 0 | P31: 0 | Q31: =IF(O31=0,0,P31/O31) -> 0 | R31: Celkem (ČUS) - 345 dětí, Český florbal - 302 dětí | S31: =Q31*(N31)+M31+L31 -> 1731957 | T31: =$L$44*S31 -> 238879.72 | U31: =$L$44*D31 -> 238879.72 | V31: =IF(U31>J31,J31,IF(U31>$L$43,$L$43,C31*$T$38)) -> 243569.07 | W31: =IF(U31>$L$43,0,IF(U31>J31,0,($K$43-$V$38)*B31))+V31 -> 269307.25 | X31: 1 | Y31: =W31 -> 269307.25 | AA31: ano | AB31: 133690 | AC31: 289406 | AD31: ANO | BA31: =IF(U31>$L$43,1,IF(U31>J31,1,0)) -> 0
B32: =IF(U32>$L$43,0,IF(U32>J32,0,$V32/SUMIF($BA$5:$BA$37,0,$V$5:$V$37))) -> 0.013890369 | C32: =U32/$U$38 -> 0.0090439095 | D32: =S32*X32 -> 604503.78 | F32: 28. | G32: 1648 | H32: OS 29 | I32: FC Nové Hodějovice, z.s. | J32: 180000 | K32: 648554 | L32: 397232 | M32: 101578 | N32: 110808 | O32: 130 | P32: 124 | Q32: =IF(O32=0,0,P32/O32) -> 0.95384615 | R32: Celkem - 178 dětí, FAČR- 157 dětí | S32: =Q32*(N32)+M32+L32 -> 604503.78 | T32: =$L$44*S32 -> 83376.028 | U32: =$L$44*D32 -> 83376.028 | V32: =IF(U32>J32,J32,IF(U32>$L$43,$L$43,C32*$T$38)) -> 85012.749 | W32: =IF(U32>$L$43,0,IF(U32>J32,0,($K$43-$V$38)*B32))+V32 -> 93996.129 | X32: 1 | Y32: =W32 -> 93996.129 | AA32: ano | AB32: 33264 | AC32: 34200 | AD32: ANO | BA32: =IF(U32>$L$43,1,IF(U32>J32,1,0)) -> 0
B33: =IF(U33>$L$43,0,IF(U33>J33,0,$V33/SUMIF($BA$5:$BA$37,0,$V$5:$V$37))) -> 0.014578304 | C33: =U33/$U$38 -> 0.0094918186 | D33: =S33*X33 -> 634442.47 | F33: 29. | G33: 1672 | H33: OS 37 | I33: Sportovní klub JUDO České Budějovice, z.s. | J33: 235000 | K33: 1061248 | L33: 519268 | M33: 93980 | N33: 37402 | O33: 180 | P33: 102 | Q33: =IF(O33=0,0,P33/O33) -> 0.56666667 | R33: Celkem (ČUS) - 154 dětí, Český svaz judo - 108 dětí | S33: =Q33*(N33)+M33+L33 -> 634442.47 | T33: =$L$44*S33 -> 87505.313 | U33: =$L$44*D33 -> 87505.313 | V33: =IF(U33>J33,J33,IF(U33>$L$43,$L$43,C33*$T$38)) -> 89223.095 | W33: =IF(U33>$L$43,0,IF(U33>J33,0,($K$43-$V$38)*B33))+V33 -> 98651.386 | X33: 1 | Y33: =W33 -> 98651.386 | AA33: ano | AC33: 96828 | AD33: ANO | BA33: =IF(U33>$L$43,1,IF(U33>J33,1,0)) -> 0
B34: =IF(U34>$L$43,0,IF(U34>J34,0,$V34/SUMIF($BA$5:$BA$37,0,$V$5:$V$37))) -> 0.012859276 | C34: =U34/$U$38 -> 0.0083725731 | D34: =S34*X34 -> 559631 | F34: 30. | G34: 1566 | H34: OS 02 | I34: "BOX CLUB TÁTY NĚMCE ČESKÉ BUDĚJOVICE z.s." | J34: 99000 | K34: 957631 | L34: 388421 | M34: 171210 | N34: 0 | O34: 0 | P34: 0 | Q34: =IF(O34=0,0,P34/O34) -> 0 | R34: Celkem - 109 dětí, Česká boxerská asociace- 109 dětí | S34: =Q34*(N34)+M34+L34 -> 559631 | T34: =$L$44*S34 -> 77186.961 | U34: =$L$44*D34 -> 77186.961 | V34: =IF(U34>J34,J34,IF(U34>$L$43,$L$43,C34*$T$38)) -> 78702.187 | W34: =IF(U34>$L$43,0,IF(U34>J34,0,($K$43-$V$38)*B34))+V34 -> 87018.724 | X34: 1 | Y34: =W34 -> 87018.724 | AA34: ano | AC34: 70472 | AD34: ANO | BA34: =IF(U34>$L$43,1,IF(U34>J34,1,0)) -> 0
B35: =IF(U35>$L$43,0,IF(U35>J35,0,$V35/SUMIF($BA$5:$BA$37,0,$V$5:$V$37))) -> 0.04300737 | C35: =U35/$U$38 -> 0.028001758 | D35: =S35*X35 -> 1871665 | F35: 31. | G35: 1602 | H35: OS 19 | I35: Škola volejbalu z.s. | J35: 540000 | K35: 2768793 | L35: 1411565 | M35: 460100 | N35: 0 | O35: 0 | P35: 0 | Q35: =IF(O35=0,0,P35/O35) -> 0 | R35: Celkem - 438 dětí, Český volejbalový svaz - 438 dětí | S35: =Q35*(N35)+M35+L35 -> 1871665 | T35: =$L$44*S35 -> 258148.91 | U35: =$L$44*D35 -> 258148.91 | V35: =IF(U35>J35,J35,IF(U35>$L$43,$L$43,C35*$T$38)) -> 263216.53 | W35: =IF(U35>$L$43,0,IF(U35>J35,0,($K$43-$V$38)*B35))+V35 -> 291030.87 | X35: 1 | Y35: =W35 -> 291030.87 | AA35: ano | AC35: 207902 | AD35: ANO | BA35: =IF(U35>$L$43,1,IF(U35>J35,1,0)) -> 0
B36: =IF(U36>$L$43,0,IF(U36>J36,0,$V36/SUMIF($BA$5:$BA$37,0,$V$5:$V$37))) -> 0.0023448267 | C36: =U36/$U$38 -> 0.0015266981 | D36: =S36*X36 -> 102046 | F36: 32. | G36: 1610 | H36: OS 05 | I36: Warriors CB z.s. | J36: 19800 | K36: 127000 | L36: 80746 | M36: 21300 | N36: 0 | O36: 0 | P36: 0 | Q36: =IF(O36=0,0,P36/O36) -> 0 | R36: Celkem - 25 dětí, Český svaz Taekwon-do - 25 dětí | S36: =Q36*(N36)+M36+L36 -> 102046 | T36: =$L$44*S36 -> 14074.668 | U36: =$L$44*D36 -> 14074.668 | V36: =IF(U36>J36,J36,IF(U36>$L$43,$L$43,C36*$T$38)) -> 14350.962 | W36: =IF(U36>$L$43,0,IF(U36>J36,0,($K$43-$V$38)*B36))+V36 -> 15867.442 | X36: 1 | Y36: =W36 -> 15867.442 | AA36: ano | AC36: 12262 | AD36: ANO | BA36: =IF(U36>$L$43,1,IF(U36>J36,1,0)) -> 0
B37: =IF(U37>$L$43,0,IF(U37>J37,0,$V37/SUMIF($BA$5:$BA$37,0,$V$5:$V$37))) -> 0.038977695 | C37: =U37/$U$38 -> 0.025378069 | D37: =S37*X37 -> 1696295 | F37: 33. | G37: 1674 | H37: OS 21 | I37: JFA ČB,z.s. | J37: 299997 | K37: 1928282 | L37: 1553769 | M37: 142526 | N37: 0 | O37: 0 | P37: 0 | Q37: =IF(O37=0,0,P37/O37) -> 0 | R37: Celkem - 135 dětí, FAČR- 106 dětí | S37: =Q37*(N37)+M37+L37 -> 1696295 | T37: =$L$44*S37 -> 233961.05 | U37: =$L$44*D37 -> 233961.05 | V37: =IF(U37>J37,J37,IF(U37>$L$43,$L$43,C37*$T$38)) -> 238553.84 | W37: =IF(U37>$L$43,0,IF(U37>J37,0,($K$43-$V$38)*B37))+V37 -> 263762.06 | X37: 1 | Y37: =W37 -> 263762.06 | AA37: ano | AC37: 178102 | AD37: ANO | BA37: =IF(U37>$L$43,1,IF(U37>J37,1,0)) -> 0
F38: Součet | J38: =SUM(J5:J37) -> 17522797 | K38: =SUM(K5:K37) -> 127149332 | L38: =SUM(L5:L37) -> 49222948 | M38: =SUM(M5:M37) -> 13728224 | N38: =SUM(N5:N37) -> 9130833 | O38: =SUM(O5:O37) -> 5948 | P38: =SUM(P5:P37) -> 3022 | Q38: =AVERAGE(Q5:Q37) -> 0.238054 | S38: =SUM(S5:S37) -> 68153109 | T38: =$L$44*S38 -> 9400000 | U38: =SUM(U5:U37) -> 9219025.1 | V38: =SUM(V5:V37) -> 8753265.6 | W38: =SUM(W5:W37) -> 9400000 | Y38: =SUM(Y5:Y37) -> 9400000 | AB38: =SUM(AB5:AB32) -> 8487108 | AC38: =SUM(AC5:AC37) -> 8922194
L42: strop
I43: Celkem rozdělovaná dotace města =DM = | K43: 9400000 | L43: 800000 | O43: Úprava vzorce = hodnota nákladů na mládež
I44: Koeficient = K = | K44: DM/NMC | L44: =K43/S38 -> 0.13792474 | N44: Nájmy | O44: = K + L
I45: Strop | L45: 900000 | N45: Režie | O45: = P x (M) + K + L
I46: 2.skrutinium | K46: 14000000 | L46: =K46/S38 -> 0.20541983
L48: Koeficient
L49: Počet registrovaných členů | N49: Počet členů, Počet členů registrovaných příslušným svazem
L50: Celoroční činnost
L51: Věrohodnost žádosti | N51: Prokazatelnost nákladů
L52: Chybovost vyúčtování v předchozím roce | N52: Nedostatky ve vyúčtování dotací od města v předchozím roce za všechna opatření
L53: Naplňování smluv (s městem)
L54: Přiměřenost nákladů v místě a čase obvyklých

Sheet Příloha
B2: SEZNAM VYBRANÝCH ŽÁDOSTÍ (PŘÍLOHA č. 1 K PROTOKOLU)
B5: Název dotačního programu: | E5: Dotační program města České Budějovice na podporu sportu v roce 2024
B6: Opatření | E6: č. 1 - "Příspěvek na činnost výkonnostních mládežnických sportovních klubů"
B7: Hodnotící komise | E7: Sportovní komise
B8: Přítomnost členů | E8: dle prezenční listiny
B9: Jednání hodnotící komise | E9: 45414
B10: Věcně příslušný odbor: | E10: školství a tělovýchovy (OŠT)
B12: OPATŘENÍ Č.1 - Příspěvek na činnost výkonnostních mládežnických sportovních klubů | F12: Alokovaná částka v tis. Kč: 9 400 Min. - max. výše dotace v tis Kč: 10 - 800
B13: Poř. číslo | C13: Číslo projektu | D13: Název klubu | E13: Projekt (název) | F13: Navržená dotace | G13: Vybráno | H13: Zamítnuto
B14: 1. | C14: ='OP1 (upravený výpočet)'!H5 -> OS 25 | D14: ='OP1 (upravený výpočet)'!I5 -> SK Vodní Slalom České Budějovice, z.s. | E14: Příspěvek na činnost výkonnostních mládežnických sportovních klubů | F14: ='OP1 (upravený výpočet)'!W5 -> 210851.81 | G14: ANO
B15: 2. | C15: ='OP1 (upravený výpočet)'!H6 -> OS 25 | D15: Florbalová akademie České Budějovice,z.s. | E15: Příspěvek na činnost výkonnostních mládežnických sportovních klubů | F15: ='OP1 (upravený výpočet)'!W6 -> 276780.25 | G15: ANO
B16: 3. | C16: ='OP1 (upravený výpočet)'!H7 -> OS 09 | D16: Tělocvičná jednota Sokol České Budějovice | E16: Příspěvek na činnost výkonnostních mládežnických sportovních klubů | F16: ='OP1 (upravený výpočet)'!W7 -> 800000 | G16: ANO
B17: 4. | C17: ='OP1 (upravený výpočet)'!H8 -> OS 16 | D17: Tělovýchovná jednota SK Čéčova České Budějovice, z.s. | E17: Příspěvek na činnost výkonnostních mládežnických sportovních klubů | F17: ='OP1 (upravený výpočet)'!W8 -> 115471.93 | G17: ANO
B18: 5. | C18: ='OP1 (upravený výpočet)'!H9 -> OS 38 | D18: Merkur České Budějovice, z.s. | E18: Příspěvek na činnost výkonnostních mládežnických sportovních klubů | F18: ='OP1 (upravený výpočet)'!W9 -> 250927.04 | G18: ANO
B19: 6. | C19: ='OP1 (upravený výpočet)'!H10 -> OS 35 | D19: TĚLOVÝCHOVNÁ JEDNOTA LOKOMOTIVA z.s. | E19: Příspěvek na činnost výkonnostních mládežnických sportovních klubů | F19: ='OP1 (upravený výpočet)'!W10 -> 700000 | G19: ANO
B20: 7. | C20: ='OP1 (upravený výpočet)'!H11 -> OS 39 | D20: Bruslařský klub České Budějovice z.s. | E20: Příspěvek na činnost výkonnostních mládežnických sportovních klubů | F20: ='OP1 (upravený výpočet)'!W11 -> 181653.81 | G20: ANO
B21: 8. | C21: ='OP1 (upravený výpočet)'!H12 -> OS 03 | D21: LTC VITON České Budějovice, z.s. | E21: Příspěvek na činnost výkonnostních mládežnických sportovních klubů | F21: ='OP1 (upravený výpočet)'!W12 -> 553835.83 | G21: ANO
B22: 9. | C22: ='OP1 (upravený výpočet)'!H13 -> OS 01 | D22: HC MAD BULL, z. s. | E22: Příspěvek na činnost výkonnostních mládežnických sportovních klubů | F22: ='OP1 (upravený výpočet)'!W13 -> 800000 | G22: ANO
B23: 10. | C23: ='OP1 (upravený výpočet)'!H14 -> OS 04 | D23: Plavecký klub - ŠIK ČB, z.s. | E23: Příspěvek na činnost výkonnostních mládežnických sportovních klubů | F23: ='OP1 (upravený výpočet)'!W14 -> 204026.78 | G23: ANO
B24: 11. | C24: ='OP1 (upravený výpočet)'!H15 -> OS 18 | D24: Sportovní klub policie České Budějovice, z.s. | E24: Příspěvek na činnost výkonnostních mládežnických sportovních klubů | F24: ='OP1 (upravený výpočet)'!W15 -> 757942.65 | G24: ANO
B25: 12. | C25: ='OP1 (upravený výpočet)'!H16 -> OS 10 v OP2 | D25: Orel jednota České Budějovice | E25: Příspěvek na činnost výkonnostních mládežnických sportovních klubů | F25: ='OP1 (upravený výpočet)'!W16 -> 74817.839 | G25: ANO
B26: 13. | C26: ='OP1 (upravený výpočet)'!H17 -> OS 27 | D26: SKI TEAM BUDWEIS, z.s. | E26: Příspěvek na činnost výkonnostních mládežnických sportovních klubů | F26: ='OP1 (upravený výpočet)'!W17 -> 147194.37 | G26: ANO
... B46: 33. | C46: ='OP1 (upravený výpočet)'!H37 -> OS 21 | D46: JFA ČB,z.s. | E46: Příspěvek na činnost výkonnostních mládežnických sportovních klubů | F46: ='OP1 (upravený výpočet)'!W37 -> 263762.06 | G46: ANO
B47: Součet | F47: =SUM(F14:F46) -> 9400000
